Index of /checkResults/devel/bioc-LATEST/ExperimentHubData/raw-results/merida1

[ICO]NameLast modifiedSizeDescription

[DIR]Parent Directory  -  
[TXT]install-out.txt05-Mar-2024 01:39 1.4K 
[   ]install-summary.dcf05-Mar-2024 01:39 289  
[TXT]buildsrc-out.txt05-Mar-2024 01:39 856  
[   ]buildsrc-summary.dcf05-Mar-2024 01:39 456  
[TXT]checksrc-out.txt05-Mar-2024 01:39 3.6K 
[   ]checksrc-summary.dcf05-Mar-2024 01:39 490  
[TXT]buildbin-out.txt05-Mar-2024 01:39 1.6K 
[   ]buildbin-summary.dcf05-Mar-2024 01:39 590