![]() | Name | Last modified | Size | Description |
---|---|---|---|---|
![]() | Parent Directory | - | ||
![]() | buildsrc-out.txt | 07-Dec-2023 01:39 | 855 | |
![]() | buildsrc-summary.dcf | 07-Dec-2023 01:39 | 454 | |
![]() | checksrc-out.txt | 07-Dec-2023 01:39 | 3.7K | |
![]() | checksrc-summary.dcf | 07-Dec-2023 01:39 | 493 | |
![]() | install-out.txt | 07-Dec-2023 01:39 | 1.3K | |
![]() | install-summary.dcf | 07-Dec-2023 01:39 | 288 | |