Index of /checkResults/devel/bioc-LATEST/ExperimentHubData/raw-results/kunpeng2

[ICO]NameLast modifiedSizeDescription

[DIR]Parent Directory  -  
[   ]install-summary.dcf02-Mar-2024 01:40 291  
[   ]buildsrc-summary.dcf02-Mar-2024 01:40 457  
[   ]checksrc-summary.dcf02-Mar-2024 01:40 499  
[TXT]buildsrc-out.txt02-Mar-2024 01:40 858  
[TXT]install-out.txt02-Mar-2024 01:40 1.4K 
[TXT]checksrc-out.txt02-Mar-2024 01:40 3.7K