Index of /checkResults/devel/bioc-LATEST/CBEA/raw-results

[ICO]NameLast modifiedSizeDescription

[DIR]Parent Directory  -  
[DIR]lconway/18-Jun-2024 01:23 -  
[DIR]nebbiolo2/18-Jun-2024 01:22 -  
[   ]info.dcf18-Jun-2024 01:22 260  
[DIR]kjohnson3/16-Jun-2024 01:35 -  
[DIR]kjohnson1/12-Jun-2024 04:42 -  
[DIR]merida1/12-Jun-2024 04:41 -  
[DIR]palomino4/12-Jun-2024 04:40 -  
[DIR]kunpeng2/16-May-2024 02:46 -