Index of /checkResults/devel/bioc-LATEST/CBEA/raw-results/nebbiolo2

[ICO]NameLast modifiedSizeDescription

[DIR]Parent Directory  -  
[TXT]buildsrc-out.txt25-Jun-2024 00:37 910  
[   ]buildsrc-summary.dcf25-Jun-2024 00:37 411  
[TXT]checksrc-out.txt25-Jun-2024 00:37 3.8K 
[   ]checksrc-summary.dcf25-Jun-2024 00:37 400  
[TXT]install-out.txt25-Jun-2024 00:37 1.7K 
[   ]install-summary.dcf25-Jun-2024 00:37 252