Index of /checkResults/devel/bioc-LATEST/CBEA/raw-results/kjohnson3

[ICO]NameLast modifiedSizeDescription

[DIR]Parent Directory  -  
[TXT]buildbin-out.txt18-Jul-2024 00:42 4.1K 
[   ]buildbin-summary.dcf18-Jul-2024 00:42 509  
[TXT]buildsrc-out.txt18-Jul-2024 00:42 896  
[   ]buildsrc-summary.dcf18-Jul-2024 00:42 416  
[TXT]checksrc-out.txt18-Jul-2024 00:42 3.9K 
[   ]checksrc-summary.dcf18-Jul-2024 00:42 430  
[TXT]install-out.txt18-Jul-2024 00:42 2.1K 
[   ]install-summary.dcf18-Jul-2024 00:42 262