Index of /checkResults/devel/bioc-LATEST/BSgenome/raw-results

[ICO]NameLast modifiedSizeDescription

[DIR]Parent Directory  -  
[DIR]kunpeng2/16-May-2024 02:46 -  
[DIR]palomino4/12-Jun-2024 04:40 -  
[DIR]merida1/12-Jun-2024 04:41 -  
[DIR]kjohnson1/12-Jun-2024 04:42 -  
[   ]info.dcf26-Jun-2024 00:37 273  
[DIR]nebbiolo2/26-Jun-2024 00:37 -  
[DIR]lconway/26-Jun-2024 00:38 -  
[DIR]kjohnson3/26-Jun-2024 00:39 -