Index of /checkResults/devel/bioc-LATEST/BSgenome/raw-results/kjohnson3

[ICO]NameLast modifiedSizeDescription

[DIR]Parent Directory  -  
[TXT]buildbin-out.txt18-Jul-2024 00:42 1.2K 
[   ]buildbin-summary.dcf18-Jul-2024 00:42 536  
[TXT]buildsrc-out.txt18-Jul-2024 00:42 820  
[   ]buildsrc-summary.dcf18-Jul-2024 00:42 430  
[TXT]checksrc-out.txt18-Jul-2024 00:42 6.5K 
[   ]checksrc-summary.dcf18-Jul-2024 00:42 454  
[TXT]install-out.txt18-Jul-2024 00:42 1.0K 
[   ]install-summary.dcf18-Jul-2024 00:42 271