Index of /checkResults/devel/bioc-LATEST/BSgenome/raw-results/nebbiolo2

[ICO]NameLast modifiedSizeDescription

[DIR]Parent Directory  -  
[TXT]buildsrc-out.txt22-Jun-2024 00:35 834  
[   ]buildsrc-summary.dcf22-Jun-2024 00:35 426  
[TXT]checksrc-out.txt22-Jun-2024 00:35 6.5K 
[   ]checksrc-summary.dcf22-Jun-2024 00:35 424  
[TXT]install-out.txt22-Jun-2024 00:35 955  
[   ]install-summary.dcf22-Jun-2024 00:35 261