Index of /checkResults/devel/bioc-LATEST/BEAT/raw-results

[ICO]NameLast modifiedSizeDescription

[DIR]Parent Directory  -  
[DIR]palomino4/12-Jun-2024 04:40 -  
[DIR]merida1/12-Jun-2024 04:41 -  
[DIR]kjohnson1/12-Jun-2024 04:42 -  
[DIR]kjohnson3/09-Jul-2024 00:43 -  
[DIR]kunpeng2/09-Jul-2024 00:44 -  
[   ]info.dcf12-Jul-2024 00:58 255  
[DIR]nebbiolo2/12-Jul-2024 00:59 -  
[DIR]palomino6/12-Jul-2024 01:00 -  
[DIR]lconway/12-Jul-2024 01:00 -