Index of /checkResults/devel/bioc-LATEST/BEAT/raw-results/lconway

[ICO]NameLast modifiedSizeDescription

[DIR]Parent Directory  -  
[TXT]buildbin-out.txt17-Jul-2024 00:41 1.1K 
[   ]buildbin-summary.dcf17-Jul-2024 00:41 512  
[TXT]buildsrc-out.txt17-Jul-2024 00:41 867  
[   ]buildsrc-summary.dcf17-Jul-2024 00:41 418  
[TXT]checksrc-out.txt17-Jul-2024 00:41 4.1K 
[   ]checksrc-summary.dcf17-Jul-2024 00:41 432  
[TXT]install-out.txt17-Jul-2024 00:41 1.0K 
[   ]install-summary.dcf17-Jul-2024 00:41 263