Index of /checkResults/devel/bioc-LATEST/AllelicImbalance/raw-results/kunpeng2

[ICO]NameLast modifiedSizeDescription

[DIR]Parent Directory  -  
[   ]install-summary.dcf18-Feb-2024 16:29 289  
[   ]buildsrc-summary.dcf18-Feb-2024 16:29 457  
[   ]checksrc-summary.dcf18-Feb-2024 16:29 489  
[TXT]buildsrc-out.txt18-Feb-2024 16:29 854  
[TXT]install-out.txt18-Feb-2024 16:29 1.2K 
[TXT]checksrc-out.txt18-Feb-2024 16:29 4.1K