Back to Multiple platform build/check report for BioC 3.19:   simplified   long
AB[C]DEFGHIJKLMNOPQRSTUVWXYZ

This page was generated on 2024-05-21 11:37:52 -0400 (Tue, 21 May 2024).

HostnameOSArch (*)R versionInstalled pkgs
nebbiolo1Linux (Ubuntu 22.04.3 LTS)x86_644.4.0 (2024-04-24) -- "Puppy Cup" 4751
palomino3Windows Server 2022 Datacenterx644.4.0 (2024-04-24 ucrt) -- "Puppy Cup" 4485
lconwaymacOS 12.7.1 Montereyx86_644.4.0 (2024-04-24) -- "Puppy Cup" 4515
Click on any hostname to see more info about the system (e.g. compilers)      (*) as reported by 'uname -p', except on Windows and Mac OS X

Package 478/2300HostnameOS / ArchINSTALLBUILDCHECKBUILD BIN
CTexploreR 1.0.0  (landing page)
Axelle Loriot
Snapshot Date: 2024-05-20 14:00:15 -0400 (Mon, 20 May 2024)
git_url: https://git.bioconductor.org/packages/CTexploreR
git_branch: RELEASE_3_19
git_last_commit: 7af29e4
git_last_commit_date: 2024-04-30 11:53:09 -0400 (Tue, 30 Apr 2024)
nebbiolo1Linux (Ubuntu 22.04.3 LTS) / x86_64  OK    OK    OK  UNNEEDED, same version is already published
palomino3Windows Server 2022 Datacenter / x64  OK    OK    OK    OK  UNNEEDED, same version is already published
lconwaymacOS 12.7.1 Monterey / x86_64  OK    OK    OK    OK  UNNEEDED, same version is already published
kjohnson3macOS 13.6.5 Ventura / arm64see weekly results here

CHECK results for CTexploreR on lconway


To the developers/maintainers of the CTexploreR package:
- Allow up to 24 hours (and sometimes 48 hours) for your latest push to git@git.bioconductor.org:packages/CTexploreR.git to reflect on this report. See Troubleshooting Build Report for more information.
- Use the following Renviron settings to reproduce errors and warnings.
- If 'R CMD check' started to fail recently on the Linux builder(s) over a missing dependency, add the missing dependency to 'Suggests:' in your DESCRIPTION file. See Renviron.bioc for more information.

raw results


Summary

Package: CTexploreR
Version: 1.0.0
Command: /Library/Frameworks/R.framework/Resources/bin/R CMD check --install=check:CTexploreR.install-out.txt --library=/Library/Frameworks/R.framework/Resources/library --no-vignettes --timings CTexploreR_1.0.0.tar.gz
StartedAt: 2024-05-20 20:11:23 -0400 (Mon, 20 May 2024)
EndedAt: 2024-05-20 20:23:57 -0400 (Mon, 20 May 2024)
EllapsedTime: 754.2 seconds
RetCode: 0
Status:   OK  
CheckDir: CTexploreR.Rcheck
Warnings: 0

Command output

##############################################################################
##############################################################################
###
### Running command:
###
###   /Library/Frameworks/R.framework/Resources/bin/R CMD check --install=check:CTexploreR.install-out.txt --library=/Library/Frameworks/R.framework/Resources/library --no-vignettes --timings CTexploreR_1.0.0.tar.gz
###
##############################################################################
##############################################################################


* using log directory ‘/Users/biocbuild/bbs-3.19-bioc/meat/CTexploreR.Rcheck’
* using R version 4.4.0 (2024-04-24)
* using platform: x86_64-apple-darwin20
* R was compiled by
    Apple clang version 14.0.0 (clang-1400.0.29.202)
    GNU Fortran (GCC) 12.2.0
* running under: macOS Monterey 12.7.1
* using session charset: UTF-8
* using option ‘--no-vignettes’
* checking for file ‘CTexploreR/DESCRIPTION’ ... OK
* this is package ‘CTexploreR’ version ‘1.0.0’
* package encoding: UTF-8
* checking package namespace information ... OK
* checking package dependencies ... OK
* checking if this is a source package ... OK
* checking if there is a namespace ... OK
* checking for hidden files and directories ... OK
* checking for portable file names ... OK
* checking for sufficient/correct file permissions ... OK
* checking whether package ‘CTexploreR’ can be installed ... OK
* checking installed package size ... OK
* checking package directory ... OK
* checking ‘build’ directory ... OK
* checking DESCRIPTION meta-information ... OK
* checking top-level files ... OK
* checking for left-over files ... OK
* checking index information ... OK
* checking package subdirectories ... OK
* checking code files for non-ASCII characters ... OK
* checking R files for syntax errors ... OK
* checking whether the package can be loaded ... OK
* checking whether the package can be loaded with stated dependencies ... OK
* checking whether the package can be unloaded cleanly ... OK
* checking whether the namespace can be loaded with stated dependencies ... OK
* checking whether the namespace can be unloaded cleanly ... OK
* checking dependencies in R code ... OK
* checking S3 generic/method consistency ... OK
* checking replacement functions ... OK
* checking foreign function calls ... OK
* checking R code for possible problems ... OK
* checking Rd files ... OK
* checking Rd metadata ... OK
* checking Rd cross-references ... OK
* checking for missing documentation entries ... OK
* checking for code/documentation mismatches ... OK
* checking Rd \usage sections ... OK
* checking Rd contents ... OK
* checking for unstated dependencies in examples ... OK
* checking files in ‘vignettes’ ... OK
* checking examples ... OK
Examples with CPU (user + system) or elapsed time > 5s
                                        user system elapsed
DAC_induction                         13.805  1.651  22.385
normal_tissues_mean_methylation       10.475  0.788  12.011
HPA_cell_type_expression               8.031  0.628   9.387
GTEX_expression                        7.447  0.614   8.603
normal_tissue_expression_multimapping  5.664  0.483   6.587
* checking for unstated dependencies in ‘tests’ ... OK
* checking tests ...
  Running ‘testthat.R’
 OK
* checking for unstated dependencies in vignettes ... OK
* checking package vignettes ... OK
* checking running R code from vignettes ... SKIPPED
* checking re-building of vignette outputs ... SKIPPED
* checking PDF version of manual ... OK
* DONE

Status: OK


Installation output

CTexploreR.Rcheck/00install.out

##############################################################################
##############################################################################
###
### Running command:
###
###   /Library/Frameworks/R.framework/Resources/bin/R CMD INSTALL CTexploreR
###
##############################################################################
##############################################################################


* installing to library ‘/Library/Frameworks/R.framework/Versions/4.4-x86_64/Resources/library’
* installing *source* package ‘CTexploreR’ ...
** using staged installation
** R
** inst
** byte-compile and prepare package for lazy loading
see ?CTdata and browseVignettes('CTdata') for documentation
loading from cache
** help
*** installing help indices
** building package indices
** installing vignettes
** testing if installed package can be loaded from temporary location
** testing if installed package can be loaded from final location
** testing if installed package keeps a record of temporary installation path
* DONE (CTexploreR)

Tests output

CTexploreR.Rcheck/tests/testthat.Rout


R version 4.4.0 (2024-04-24) -- "Puppy Cup"
Copyright (C) 2024 The R Foundation for Statistical Computing
Platform: x86_64-apple-darwin20

R is free software and comes with ABSOLUTELY NO WARRANTY.
You are welcome to redistribute it under certain conditions.
Type 'license()' or 'licence()' for distribution details.

R is a collaborative project with many contributors.
Type 'contributors()' for more information and
'citation()' on how to cite R or R packages in publications.

Type 'demo()' for some demos, 'help()' for on-line help, or
'help.start()' for an HTML browser interface to help.
Type 'q()' to quit R.

> # This file is part of the standard setup for testthat.
> # It is recommended that you do not modify it.
> #
> # Where should you do additional test configuration?
> # Learn more about the roles of various files in:
> # * https://r-pkgs.org/testing-design.html#sec-tests-files-overview
> # * https://testthat.r-lib.org/articles/special-files.html
> 
> library(testthat)
> library(CTexploreR)
Loading required package: CTdata
> 
> test_check("CTexploreR")
see ?CTdata and browseVignettes('CTdata') for documentation
loading from cache
see ?CTdata and browseVignettes('CTdata') for documentation
loading from cache
see ?CTdata and browseVignettes('CTdata') for documentation
loading from cache
see ?CTdata and browseVignettes('CTdata') for documentation
loading from cache
see ?CTdata and browseVignettes('CTdata') for documentation
loading from cache
see ?CTdata and browseVignettes('CTdata') for documentation
loading from cache
see ?CTdata and browseVignettes('CTdata') for documentation
loading from cache
see ?CTdata and browseVignettes('CTdata') for documentation
loading from cache
[ FAIL 0 | WARN 0 | SKIP 0 | PASS 98 ]
> 
> proc.time()
   user  system elapsed 
391.874  26.256 436.996 

Example timings

CTexploreR.Rcheck/CTexploreR-Ex.timings

nameusersystemelapsed
CCLE_expression0.0000.0000.001
CT_correlated_genes000
CT_genes0.0750.0020.077
DAC_induction13.805 1.65122.385
GTEX_expression7.4470.6148.603
HPA_cell_type_expression8.0310.6289.387
TCGA_expression0.0000.0000.001
TCGA_methylation_expression_correlation000
check_names0.0000.0000.001
normal_tissue_expression_multimapping5.6640.4836.587
normal_tissues_mean_methylation10.475 0.78812.011
normal_tissues_methylation4.3540.2494.814
prepare_TCGA_methylation_expression000
set_fontsize0.0000.0010.000
subset_database1.5270.1291.754
testis_expression000