Back to Build/check report for BioC 3.18 experimental data
ABCDEFGHIJKLMNOPQR[S]TUVWXYZ

This page was generated on 2024-03-28 14:52:06 -0400 (Thu, 28 Mar 2024).

HostnameOSArch (*)R versionInstalled pkgs
nebbiolo2Linux (Ubuntu 22.04.3 LTS)x86_644.3.3 (2024-02-29) -- "Angel Food Cake" 4669
Click on any hostname to see more info about the system (e.g. compilers)      (*) as reported by 'uname -p', except on Windows and Mac OS X

Package 375/429HostnameOS / ArchINSTALLBUILDCHECK
SomatiCAData 1.40.0  (landing page)
Mengjie Chen
Snapshot Date: 2024-03-28 07:30:02 -0400 (Thu, 28 Mar 2024)
git_url: https://git.bioconductor.org/packages/SomatiCAData
git_branch: RELEASE_3_18
git_last_commit: cee61d4
git_last_commit_date: 2023-10-24 09:04:49 -0400 (Tue, 24 Oct 2023)
nebbiolo2Linux (Ubuntu 22.04.3 LTS) / x86_64  OK    OK    WARNINGS  UNNEEDED, same version is already published

BUILD results for SomatiCAData on nebbiolo2


To the developers/maintainers of the SomatiCAData package:
- Use the following Renviron settings to reproduce errors and warnings.
- If 'R CMD check' started to fail recently on the Linux builder(s) over a missing dependency, add the missing dependency to 'Suggests:' in your DESCRIPTION file. See Renviron.bioc for more information.

raw results


Summary

Package: SomatiCAData
Version: 1.40.0
Command: /home/biocbuild/bbs-3.18-bioc/R/bin/R CMD build --keep-empty-dirs --no-resave-data SomatiCAData
StartedAt: 2024-03-28 10:53:37 -0400 (Thu, 28 Mar 2024)
EndedAt: 2024-03-28 10:53:40 -0400 (Thu, 28 Mar 2024)
EllapsedTime: 3.3 seconds
RetCode: 0
Status:   OK  
PackageFile: SomatiCAData_1.40.0.tar.gz
PackageFileSize: 32.14 MiB

Command output

##############################################################################
##############################################################################
###
### Running command:
###
###   /home/biocbuild/bbs-3.18-bioc/R/bin/R CMD build --keep-empty-dirs --no-resave-data SomatiCAData
###
##############################################################################
##############################################################################


* checking for file ‘SomatiCAData/DESCRIPTION’ ... OK
* preparing ‘SomatiCAData’:
* checking DESCRIPTION meta-information ... OK
* checking for LF line-endings in source and make files and shell scripts
* checking for empty or unneeded directories
* building ‘SomatiCAData_1.40.0.tar.gz’