Back to Build/check report for BioC 3.18 experimental data
ABCDEFGHIJKLM[N]OPQRSTUVWXYZ

This page was generated on 2024-03-28 14:52:06 -0400 (Thu, 28 Mar 2024).

HostnameOSArch (*)R versionInstalled pkgs
nebbiolo2Linux (Ubuntu 22.04.3 LTS)x86_644.3.3 (2024-02-29) -- "Angel Food Cake" 4669
Click on any hostname to see more info about the system (e.g. compilers)      (*) as reported by 'uname -p', except on Windows and Mac OS X

Package 271/429HostnameOS / ArchINSTALLBUILDCHECK
NGScopyData 1.22.0  (landing page)
Xiaobei Zhao
Snapshot Date: 2024-03-28 07:30:02 -0400 (Thu, 28 Mar 2024)
git_url: https://git.bioconductor.org/packages/NGScopyData
git_branch: RELEASE_3_18
git_last_commit: 9d1a43d
git_last_commit_date: 2023-10-24 09:09:05 -0400 (Tue, 24 Oct 2023)
nebbiolo2Linux (Ubuntu 22.04.3 LTS) / x86_64  OK    OK    OK  UNNEEDED, same version is already published

BUILD results for NGScopyData on nebbiolo2


To the developers/maintainers of the NGScopyData package:
- Use the following Renviron settings to reproduce errors and warnings.
- If 'R CMD check' started to fail recently on the Linux builder(s) over a missing dependency, add the missing dependency to 'Suggests:' in your DESCRIPTION file. See Renviron.bioc for more information.

raw results


Summary

Package: NGScopyData
Version: 1.22.0
Command: /home/biocbuild/bbs-3.18-bioc/R/bin/R CMD build --keep-empty-dirs --no-resave-data NGScopyData
StartedAt: 2024-03-28 10:43:53 -0400 (Thu, 28 Mar 2024)
EndedAt: 2024-03-28 10:43:57 -0400 (Thu, 28 Mar 2024)
EllapsedTime: 4.0 seconds
RetCode: 0
Status:   OK  
PackageFile: NGScopyData_1.22.0.tar.gz
PackageFileSize: 37 MiB

Command output

##############################################################################
##############################################################################
###
### Running command:
###
###   /home/biocbuild/bbs-3.18-bioc/R/bin/R CMD build --keep-empty-dirs --no-resave-data NGScopyData
###
##############################################################################
##############################################################################


* checking for file ‘NGScopyData/DESCRIPTION’ ... OK
* preparing ‘NGScopyData’:
* checking DESCRIPTION meta-information ... OK
* checking for LF line-endings in source and make files and shell scripts
* checking for empty or unneeded directories
Omitted ‘LazyData’ from DESCRIPTION
* building ‘NGScopyData_1.22.0.tar.gz’