Back to Build/check report for BioC 3.18 experimental data
ABCDEFGHIJKLM[N]OPQRSTUVWXYZ

This page was generated on 2024-02-27 14:52:00 -0500 (Tue, 27 Feb 2024).

HostnameOSArch (*)R versionInstalled pkgs
nebbiolo2Linux (Ubuntu 22.04.3 LTS)x86_644.3.2 Patched (2023-11-13 r85521) -- "Eye Holes" 4691
Click on any hostname to see more info about the system (e.g. compilers)      (*) as reported by 'uname -p', except on Windows and Mac OS X

All results for package NGScopyData


To the developers/maintainers of the NGScopyData package:
- Use the following Renviron settings to reproduce errors and warnings.
- If 'R CMD check' started to fail recently on the Linux builder(s) over a missing dependency, add the missing dependency to 'Suggests:' in your DESCRIPTION file. See Renviron.bioc for more information.

raw results

Package 271/429HostnameOS / ArchINSTALLBUILDCHECK
NGScopyData 1.22.0  (landing page)
Xiaobei Zhao
Snapshot Date: 2024-02-27 07:30:01 -0500 (Tue, 27 Feb 2024)
git_url: https://git.bioconductor.org/packages/NGScopyData
git_branch: RELEASE_3_18
git_last_commit: 9d1a43d
git_last_commit_date: 2023-10-24 09:09:05 -0500 (Tue, 24 Oct 2023)
nebbiolo2Linux (Ubuntu 22.04.3 LTS) / x86_64  OK    OK    OK  UNNEEDED, same version is already published