Back to Build/check report for BioC 3.18 experimental data
AB[C]DEFGHIJKLMNOPQRSTUVWXYZ

This page was generated on 2023-12-07 14:52:02 -0500 (Thu, 07 Dec 2023).

HostnameOSArch (*)R versionInstalled pkgs
nebbiolo2Linux (Ubuntu 22.04.2 LTS)x86_644.3.2 Patched (2023-11-13 r85521) -- "Eye Holes" 4688
Click on any hostname to see more info about the system (e.g. compilers)      (*) as reported by 'uname -p', except on Windows and Mac OS X

Package 75/429HostnameOS / ArchINSTALLBUILDCHECK
COSMIC.67 1.38.0  (landing page)
Julian Gehring
Snapshot Date: 2023-12-07 07:30:02 -0500 (Thu, 07 Dec 2023)
git_url: https://git.bioconductor.org/packages/COSMIC.67
git_branch: RELEASE_3_18
git_last_commit: e08b885
git_last_commit_date: 2023-10-24 09:07:03 -0500 (Tue, 24 Oct 2023)
nebbiolo2Linux (Ubuntu 22.04.2 LTS) / x86_64  OK    OK    OK  UNNEEDED, same version is already published

INSTALL results for COSMIC.67 on nebbiolo2


To the developers/maintainers of the COSMIC.67 package:
- Use the following Renviron settings to reproduce errors and warnings.
- If 'R CMD check' started to fail recently on the Linux builder(s) over a missing dependency, add the missing dependency to 'Suggests:' in your DESCRIPTION file. See Renviron.bioc for more information.

raw results


Summary

Package: COSMIC.67
Version: 1.38.0
Command: /home/biocbuild/bbs-3.18-bioc/R/bin/R CMD INSTALL COSMIC.67
StartedAt: 2023-12-07 10:12:49 -0500 (Thu, 07 Dec 2023)
EndedAt: 2023-12-07 10:13:29 -0500 (Thu, 07 Dec 2023)
EllapsedTime: 39.6 seconds
RetCode: 0
Status:   OK  

Command output

##############################################################################
##############################################################################
###
### Running command:
###
###   /home/biocbuild/bbs-3.18-bioc/R/bin/R CMD INSTALL COSMIC.67
###
##############################################################################
##############################################################################


* installing to library ‘/home/biocbuild/bbs-3.18-bioc/R/site-library’
* installing *source* package ‘COSMIC.67’ ...
** using staged installation
** R
** data
** inst
** byte-compile and prepare package for lazy loading
** help
*** installing help indices
** building package indices
** installing vignettes
** testing if installed package can be loaded from temporary location
** testing if installed package can be loaded from final location
** testing if installed package keeps a record of temporary installation path
* DONE (COSMIC.67)