Index of /checkResults/3.18/data-experiment-LATEST/COSMIC.67/raw-results

[ICO]NameLast modifiedSizeDescription

[DIR]Parent Directory  -  
[   ]info.dcf06-Dec-2023 04:52 272  
[DIR]nebbiolo2/06-Dec-2023 04:52 -