Index of /checkResults/3.18/bioc-LATEST/fishpond/raw-results
Name
Last modified
Size
Description
Parent Directory
-
info.dcf
01-Dec-2023 01:37
279
kunpeng2/
03-Nov-2023 00:40
-
lconway/
01-Dec-2023 01:37
-
nebbiolo2/
01-Dec-2023 01:35
-
palomino4/
01-Dec-2023 01:36
-