Index of /checkResults/3.18/bioc-LATEST/fishpond/raw-results/palomino4

[ICO]NameLast modifiedSizeDescription

[DIR]Parent Directory  -  
[TXT]buildbin-out.txt03-Mar-2024 01:36 1.1K 
[   ]buildbin-summary.dcf03-Mar-2024 01:36 518  
[TXT]buildsrc-out.txt03-Mar-2024 01:36 880  
[   ]buildsrc-summary.dcf03-Mar-2024 01:36 455  
[TXT]checksrc-out.txt03-Mar-2024 01:36 3.4K 
[   ]checksrc-summary.dcf03-Mar-2024 01:36 449  
[TXT]install-out.txt03-Mar-2024 01:36 1.0K 
[   ]install-summary.dcf03-Mar-2024 01:36 269