Index of /checkResults/3.18/bioc-LATEST/fishpond/raw-results/nebbiolo2

[ICO]NameLast modifiedSizeDescription

[DIR]Parent Directory  -  
[TXT]buildsrc-out.txt03-Mar-2024 01:35 849  
[   ]buildsrc-summary.dcf03-Mar-2024 01:35 419  
[TXT]checksrc-out.txt03-Mar-2024 01:35 3.5K 
[   ]checksrc-summary.dcf03-Mar-2024 01:35 416  
[TXT]install-out.txt03-Mar-2024 01:35 1.0K 
[   ]install-summary.dcf03-Mar-2024 01:35 260