Index of /checkResults/3.18/bioc-LATEST/LRBaseDbi/raw-results

[ICO]NameLast modifiedSizeDescription

[DIR]Parent Directory  -  
[   ]info.dcf02-Mar-2024 01:35 285  
[DIR]kunpeng2/03-Nov-2023 00:40 -  
[DIR]lconway/02-Mar-2024 01:37 -  
[DIR]nebbiolo2/02-Mar-2024 01:36 -  
[DIR]palomino4/02-Mar-2024 01:36 -