Index of /checkResults/3.18/bioc-LATEST/LRBaseDbi/raw-results/nebbiolo2

[ICO]NameLast modifiedSizeDescription

[DIR]Parent Directory  -  
[TXT]buildsrc-out.txt23-Feb-2024 01:36 814  
[   ]buildsrc-summary.dcf23-Feb-2024 01:36 423  
[TXT]checksrc-out.txt23-Feb-2024 01:36 4.4K 
[   ]checksrc-summary.dcf23-Feb-2024 01:36 428  
[TXT]install-out.txt23-Feb-2024 01:36 958  
[   ]install-summary.dcf23-Feb-2024 01:36 263