Index of /checkResults/3.18/bioc-LATEST/LRBaseDbi/raw-results/lconway

[ICO]NameLast modifiedSizeDescription

[DIR]Parent Directory  -  
[TXT]buildbin-out.txt23-Feb-2024 01:37 1.2K 
[   ]buildbin-summary.dcf23-Feb-2024 01:37 542  
[TXT]buildsrc-out.txt23-Feb-2024 01:37 824  
[   ]buildsrc-summary.dcf23-Feb-2024 01:37 433  
[TXT]checksrc-out.txt23-Feb-2024 01:37 3.2K 
[   ]checksrc-summary.dcf23-Feb-2024 01:37 452  
[TXT]install-out.txt23-Feb-2024 01:37 1.0K 
[   ]install-summary.dcf23-Feb-2024 01:37 273