Back to Build/check report for BioC 3.17 experimental data
ABCDE[F]GHIJKLMNOPQRSTUVWXYZ

This page was generated on 2023-03-30 14:51:10 -0400 (Thu, 30 Mar 2023).

HostnameOSArch (*)R versionInstalled pkgs
nebbiolo1Linux (Ubuntu 22.04.1 LTS)x86_64R Under development (unstable) (2023-03-16 r83996) -- "Unsuffered Consequences" 4547
Click on any hostname to see more info about the system (e.g. compilers)      (*) as reported by 'uname -p', except on Windows and Mac OS X

BUILD results for FlowSorted.Blood.EPIC on nebbiolo1


To the developers/maintainers of the FlowSorted.Blood.EPIC package:
Use the following Renviron settings to reproduce errors and warnings.

Note: If "R CMD check" recently failed on the Linux builder over a missing dependency, add the missing dependency to "Suggests" in your DESCRIPTION file. See the Renviron.bioc for details.

raw results

Package 130/417HostnameOS / ArchINSTALLBUILDCHECK
FlowSorted.Blood.EPIC 2.3.0  (landing page)
Lucas A. Salas
Snapshot Date: 2023-03-30 07:30:02 -0400 (Thu, 30 Mar 2023)
git_url: https://git.bioconductor.org/packages/FlowSorted.Blood.EPIC
git_branch: devel
git_last_commit: 38b0fe8
git_last_commit_date: 2022-11-01 11:18:59 -0400 (Tue, 01 Nov 2022)
nebbiolo1Linux (Ubuntu 22.04.1 LTS) / x86_64  OK    OK    ERROR  

Summary

Package: FlowSorted.Blood.EPIC
Version: 2.3.0
Command: /home/biocbuild/bbs-3.17-bioc/R/bin/R CMD build --keep-empty-dirs --no-resave-data FlowSorted.Blood.EPIC
StartedAt: 2023-03-30 10:26:14 -0400 (Thu, 30 Mar 2023)
EndedAt: 2023-03-30 10:32:47 -0400 (Thu, 30 Mar 2023)
EllapsedTime: 393.0 seconds
RetCode: 0
Status:   OK  
PackageFile: FlowSorted.Blood.EPIC_2.3.0.tar.gz
PackageFileSize: 97 KiB

Command output

##############################################################################
##############################################################################
###
### Running command:
###
###   /home/biocbuild/bbs-3.17-bioc/R/bin/R CMD build --keep-empty-dirs --no-resave-data FlowSorted.Blood.EPIC
###
##############################################################################
##############################################################################


* checking for file ‘FlowSorted.Blood.EPIC/DESCRIPTION’ ... OK
* preparing ‘FlowSorted.Blood.EPIC’:
* checking DESCRIPTION meta-information ... OK
* installing the package to build vignettes
* creating vignettes ... OK
* checking for LF line-endings in source and make files and shell scripts
* checking for empty or unneeded directories
* building ‘FlowSorted.Blood.EPIC_2.3.0.tar.gz’