Back to Build/check report for BioC 3.17 experimental data
ABCDE[F]GHIJKLMNOPQRSTUVWXYZ

This page was generated on 2023-01-31 14:51:29 -0500 (Tue, 31 Jan 2023).

HostnameOSArch (*)R versionInstalled pkgs
nebbiolo1Linux (Ubuntu 22.04.1 LTS)x86_64R Under development (unstable) (2023-01-10 r83596) -- "Unsuffered Consequences" 4482
Click on any hostname to see more info about the system (e.g. compilers)      (*) as reported by 'uname -p', except on Windows and Mac OS X

All results for package FlowSorted.Blood.EPIC


To the developers/maintainers of the FlowSorted.Blood.EPIC package:
Make sure to use the following settings in order to reproduce any error or warning you see on this page.

raw results

Package 129/415HostnameOS / ArchINSTALLBUILDCHECK
FlowSorted.Blood.EPIC 2.3.0  (landing page)
Lucas A. Salas
Snapshot Date: 2023-01-31 07:30:02 -0500 (Tue, 31 Jan 2023)
git_url: https://git.bioconductor.org/packages/FlowSorted.Blood.EPIC
git_branch: master
git_last_commit: 38b0fe8
git_last_commit_date: 2022-11-01 11:18:59 -0500 (Tue, 01 Nov 2022)
nebbiolo1Linux (Ubuntu 22.04.1 LTS) / x86_64  OK    OK    OK  UNNEEDED, same version is already published