Index of /checkResults/3.17/bioc-LATEST/consensusOV/raw-results
Name
Last modified
Size
Description
Parent Directory
-
info.dcf
04-Jun-2023 03:37
299
merida1/
04-Jun-2023 03:37
-
nebbiolo1/
04-Jun-2023 03:36
-
palomino3/
04-Jun-2023 03:37
-