![]() | Name | Last modified | Size | Description |
---|---|---|---|---|
![]() | Parent Directory | - | ||
![]() | buildbin-out.txt | 01-Oct-2023 00:37 | 1.2K | |
![]() | buildbin-summary.dcf | 01-Oct-2023 00:37 | 555 | |
![]() | buildsrc-out.txt | 01-Oct-2023 00:37 | 832 | |
![]() | buildsrc-summary.dcf | 01-Oct-2023 00:37 | 440 | |
![]() | checksrc-out.txt | 01-Oct-2023 00:37 | 3.4K | |
![]() | checksrc-summary.dcf | 01-Oct-2023 00:37 | 460 | |
![]() | install-out.txt | 01-Oct-2023 00:37 | 1.0K | |
![]() | install-summary.dcf | 01-Oct-2023 00:37 | 278 | |