Index of /checkResults/3.17/bioc-LATEST/consensusOV/raw-results/nebbiolo1

[ICO]NameLast modifiedSizeDescription

[DIR]Parent Directory  -  
[TXT]buildsrc-out.txt28-Sep-2023 00:35 822  
[   ]buildsrc-summary.dcf28-Sep-2023 00:35 430  
[TXT]checksrc-out.txt28-Sep-2023 00:35 3.5K 
[   ]checksrc-summary.dcf28-Sep-2023 00:35 430  
[TXT]install-out.txt28-Sep-2023 00:35 1.0K 
[   ]install-summary.dcf28-Sep-2023 00:35 267