Index of /checkResults/3.17/bioc-LATEST/DEGraph/raw-results
Name
Last modified
Size
Description
Parent Directory
-
info.dcf
03-Jun-2023 00:05
275
nebbiolo1/
03-Jun-2023 00:05
-