Index of /checkResults/3.17/bioc-LATEST/DEGraph/raw-results
Name
Last modified
Size
Description
Parent Directory
-
info.dcf
05-Oct-2023 00:35
275
nebbiolo1/
05-Oct-2023 00:35
-