![]() | Name | Last modified | Size | Description |
---|---|---|---|---|
![]() | Parent Directory | - | ||
![]() | buildsrc-out.txt | 05-Oct-2023 00:35 | 869 | |
![]() | buildsrc-summary.dcf | 05-Oct-2023 00:35 | 417 | |
![]() | checksrc-out.txt | 05-Oct-2023 00:35 | 8.4K | |
![]() | checksrc-summary.dcf | 05-Oct-2023 00:35 | 413 | |
![]() | install-out.txt | 05-Oct-2023 00:35 | 968 | |
![]() | install-summary.dcf | 05-Oct-2023 00:35 | 258 | |