Index of /checkResults/3.17/bioc-LATEST/Cepo/raw-results/palomino3

[ICO]NameLast modifiedSizeDescription

[DIR]Parent Directory  -  
[TXT]buildbin-out.txt04-Jun-2023 03:37 1.1K 
[   ]buildbin-summary.dcf04-Jun-2023 03:37 494  
[TXT]buildsrc-out.txt04-Jun-2023 03:37 883  
[   ]buildsrc-summary.dcf04-Jun-2023 03:37 439  
[TXT]checksrc-out.txt04-Jun-2023 03:37 4.6K 
[   ]checksrc-summary.dcf04-Jun-2023 03:37 439  
[TXT]install-out.txt04-Jun-2023 03:37 1.0K 
[   ]install-summary.dcf04-Jun-2023 03:37 261