![]() | Name | Last modified | Size | Description |
---|---|---|---|---|
![]() | Parent Directory | - | ||
![]() | install-summary.dcf | 23-Sep-2023 00:36 | 261 | |
![]() | install-out.txt | 23-Sep-2023 00:36 | 1.0K | |
![]() | checksrc-summary.dcf | 23-Sep-2023 00:36 | 439 | |
![]() | checksrc-out.txt | 23-Sep-2023 00:36 | 4.6K | |
![]() | buildsrc-summary.dcf | 23-Sep-2023 00:36 | 438 | |
![]() | buildsrc-out.txt | 23-Sep-2023 00:36 | 883 | |
![]() | buildbin-summary.dcf | 23-Sep-2023 00:36 | 494 | |
![]() | buildbin-out.txt | 23-Sep-2023 00:36 | 1.1K | |