![]() | Name | Last modified | Size | Description |
---|---|---|---|---|
![]() | Parent Directory | - | ||
![]() | buildsrc-out.txt | 08-Jun-2023 00:05 | 856 | |
![]() | buildsrc-summary.dcf | 08-Jun-2023 00:05 | 407 | |
![]() | checksrc-out.txt | 08-Jun-2023 00:05 | 4.7K | |
![]() | checksrc-summary.dcf | 08-Jun-2023 00:05 | 406 | |
![]() | install-out.txt | 08-Jun-2023 00:05 | 963 | |
![]() | install-summary.dcf | 08-Jun-2023 00:05 | 252 | |