![]() | Name | Last modified | Size | Description |
---|---|---|---|---|
![]() | Parent Directory | - | ||
![]() | buildsrc-out.txt | 26-Sep-2023 00:35 | 856 | |
![]() | buildsrc-summary.dcf | 26-Sep-2023 00:35 | 406 | |
![]() | checksrc-out.txt | 26-Sep-2023 00:35 | 4.7K | |
![]() | checksrc-summary.dcf | 26-Sep-2023 00:35 | 406 | |
![]() | install-out.txt | 26-Sep-2023 00:35 | 963 | |
![]() | install-summary.dcf | 26-Sep-2023 00:35 | 252 | |