Back to Build/check report for BioC 3.15 experimental data
ABCDEFGHIJKLMNOPQR[S]TUVWXYZ

This page was generated on 2022-06-30 14:50:10 -0400 (Thu, 30 Jun 2022).

HostnameOSArch (*)R versionInstalled pkgs
nebbiolo1Linux (Ubuntu 20.04.4 LTS)x86_644.2.0 (2022-04-22) -- "Vigorous Calisthenics" 4380
Click on any hostname to see more info about the system (e.g. compilers)      (*) as reported by 'uname -p', except on Windows and Mac OS X

BUILD results for SpikeInSubset on nebbiolo1


To the developers/maintainers of the SpikeInSubset package:
Make sure to use the following settings in order to reproduce any error or warning you see on this page.

raw results

Package 364/410HostnameOS / ArchINSTALLBUILDCHECK
SpikeInSubset 1.36.0  (landing page)
Rafael A. Irizarry
Snapshot Date: 2022-06-30 07:30:02 -0400 (Thu, 30 Jun 2022)
git_url: https://git.bioconductor.org/packages/SpikeInSubset
git_branch: RELEASE_3_15
git_last_commit: 827d613
git_last_commit_date: 2022-04-26 12:56:20 -0400 (Tue, 26 Apr 2022)
nebbiolo1Linux (Ubuntu 20.04.4 LTS) / x86_64  OK    OK    WARNINGS  UNNEEDED, same version is already published

Summary

Package: SpikeInSubset
Version: 1.36.0
Command: /home/biocbuild/bbs-3.15-bioc/R/bin/R CMD build --keep-empty-dirs --no-resave-data SpikeInSubset
StartedAt: 2022-06-30 10:41:09 -0400 (Thu, 30 Jun 2022)
EndedAt: 2022-06-30 10:41:12 -0400 (Thu, 30 Jun 2022)
EllapsedTime: 3.3 seconds
RetCode: 0
Status:   OK  
PackageFile: SpikeInSubset_1.36.0.tar.gz
PackageFileSize: 17.99 MiB

Command output

##############################################################################
##############################################################################
###
### Running command:
###
###   /home/biocbuild/bbs-3.15-bioc/R/bin/R CMD build --keep-empty-dirs --no-resave-data SpikeInSubset
###
##############################################################################
##############################################################################


* checking for file ‘SpikeInSubset/DESCRIPTION’ ... OK
* preparing ‘SpikeInSubset’:
* checking DESCRIPTION meta-information ... OK
* checking for LF line-endings in source and make files and shell scripts
* checking for empty or unneeded directories
* looking to see if a ‘data/datalist’ file should be added
* building ‘SpikeInSubset_1.36.0.tar.gz’