Back to Multiple platform build/check report for BioC 3.15
ABCDEFGHIJKL[M]NOPQRSTUVWXYZ

This page was generated on 2022-05-20 12:06:57 -0400 (Fri, 20 May 2022).

HostnameOSArch (*)R versionInstalled pkgs
nebbiolo1Linux (Ubuntu 20.04.4 LTS)x86_644.2.0 (2022-04-22) -- "Vigorous Calisthenics" 4380
palomino3Windows Server 2022 Datacenterx644.2.0 (2022-04-22 ucrt) -- "Vigorous Calisthenics" 4155
merida1macOS 10.14.6 Mojavex86_644.2.0 (2022-04-22) -- "Vigorous Calisthenics" 4221
Click on any hostname to see more info about the system (e.g. compilers)      (*) as reported by 'uname -p', except on Windows and Mac OS X

BUILD results for multiOmicsViz on palomino3


To the developers/maintainers of the multiOmicsViz package:
- Please allow up to 24 hours (and sometimes 48 hours) for your latest push to git@git.bioconductor.org:packages/multiOmicsViz.git to
reflect on this report. See How and When does the builder pull? When will my changes propagate? for more information.
- Make sure to use the following settings in order to reproduce any error or warning you see on this page.

raw results

Package 1279/2140HostnameOS / ArchINSTALLBUILDCHECKBUILD BIN
multiOmicsViz 1.20.0  (landing page)
Jing Wang
Snapshot Date: 2022-05-19 13:55:15 -0400 (Thu, 19 May 2022)
git_url: https://git.bioconductor.org/packages/multiOmicsViz
git_branch: RELEASE_3_15
git_last_commit: 964846d
git_last_commit_date: 2022-04-26 11:39:31 -0400 (Tue, 26 Apr 2022)
nebbiolo1Linux (Ubuntu 20.04.4 LTS) / x86_64  OK    OK    OK  UNNEEDED, same version is already published
palomino3Windows Server 2022 Datacenter / x64  OK    OK    OK    OK  UNNEEDED, same version is already published
merida1macOS 10.14.6 Mojave / x86_64  OK    OK    OK    OK  UNNEEDED, same version is already published

Summary

Package: multiOmicsViz
Version: 1.20.0
Command: chmod a+r multiOmicsViz -R && F:\biocbuild\bbs-3.15-bioc\R\bin\R.exe CMD build --keep-empty-dirs --no-resave-data multiOmicsViz
StartedAt: 2022-05-19 19:42:20 -0400 (Thu, 19 May 2022)
EndedAt: 2022-05-19 19:43:24 -0400 (Thu, 19 May 2022)
EllapsedTime: 64.5 seconds
RetCode: 0
Status:   OK  
PackageFile: multiOmicsViz_1.20.0.tar.gz
PackageFileSize: 2.847 MiB

Command output

##############################################################################
##############################################################################
###
### Running command:
###
###   chmod a+r multiOmicsViz -R && F:\biocbuild\bbs-3.15-bioc\R\bin\R.exe CMD build --keep-empty-dirs --no-resave-data multiOmicsViz
###
##############################################################################
##############################################################################


* checking for file 'multiOmicsViz/DESCRIPTION' ... OK
* preparing 'multiOmicsViz':
* checking DESCRIPTION meta-information ... OK
* installing the package to build vignettes
* creating vignettes ... OK
* checking for LF line-endings in source and make files and shell scripts
* checking for empty or unneeded directories
* building 'multiOmicsViz_1.20.0.tar.gz'