Name | Last modified | Size | Description | |
---|---|---|---|---|
Parent Directory | - | |||
checksrc-out.txt | 16-Jan-2022 01:08 | 5.3K | ||
checksrc-summary.dcf | 16-Jan-2022 01:08 | 467 | ||
buildbin-out.txt | 16-Jan-2022 01:08 | 2.7K | ||
buildbin-summary.dcf | 16-Jan-2022 01:08 | 536 | ||
install-out.txt | 19-Mar-2022 00:08 | 2.6K | ||
install-summary.dcf | 19-Mar-2022 00:08 | 275 | ||
buildsrc-out.txt | 19-Mar-2022 00:08 | 3.5K | ||
buildsrc-summary.dcf | 19-Mar-2022 00:08 | 380 | ||