Back to Multiple platform build/check report for BioC 3.15
ABCDEFGHIJKL[M]NOPQRSTUVWXYZ

This page was generated on 2022-05-16 11:05:13 -0400 (Mon, 16 May 2022).

HostnameOSArch (*)R versionInstalled pkgs
nebbiolo1Linux (Ubuntu 20.04.4 LTS)x86_644.2.0 (2022-04-22) -- "Vigorous Calisthenics" 4379
palomino3Windows Server 2022 Datacenterx644.2.0 (2022-04-22 ucrt) -- "Vigorous Calisthenics" 4153
merida1macOS 10.14.6 Mojavex86_644.2.0 (2022-04-22) -- "Vigorous Calisthenics" 4220
Click on any hostname to see more info about the system (e.g. compilers)      (*) as reported by 'uname -p', except on Windows and Mac OS X

CHECK results for microbiome on nebbiolo1


To the developers/maintainers of the microbiome package:
- Please allow up to 24 hours (and sometimes 48 hours) for your latest push to git@git.bioconductor.org:packages/microbiome.git to
reflect on this report. See How and When does the builder pull? When will my changes propagate? for more information.
- Make sure to use the following settings in order to reproduce any error or warning you see on this page.

raw results

Package 1171/2140HostnameOS / ArchINSTALLBUILDCHECKBUILD BIN
microbiome 1.18.0  (landing page)
Leo Lahti
Snapshot Date: 2022-05-15 13:55:12 -0400 (Sun, 15 May 2022)
git_url: https://git.bioconductor.org/packages/microbiome
git_branch: RELEASE_3_15
git_last_commit: 4887f83
git_last_commit_date: 2022-04-26 11:42:45 -0400 (Tue, 26 Apr 2022)
nebbiolo1Linux (Ubuntu 20.04.4 LTS) / x86_64  OK    OK    OK  UNNEEDED, same version is already published
palomino3Windows Server 2022 Datacenter / x64  OK    OK    OK    OK  UNNEEDED, same version is already published
merida1macOS 10.14.6 Mojave / x86_64  OK    OK    OK    OK  UNNEEDED, same version is already published

Summary

Package: microbiome
Version: 1.18.0
Command: /home/biocbuild/bbs-3.15-bioc/R/bin/R CMD check --install=check:microbiome.install-out.txt --library=/home/biocbuild/bbs-3.15-bioc/R/library --no-vignettes --timings microbiome_1.18.0.tar.gz
StartedAt: 2022-05-15 20:21:28 -0400 (Sun, 15 May 2022)
EndedAt: 2022-05-15 20:24:23 -0400 (Sun, 15 May 2022)
EllapsedTime: 175.1 seconds
RetCode: 0
Status:   OK  
CheckDir: microbiome.Rcheck
Warnings: 0

Command output

##############################################################################
##############################################################################
###
### Running command:
###
###   /home/biocbuild/bbs-3.15-bioc/R/bin/R CMD check --install=check:microbiome.install-out.txt --library=/home/biocbuild/bbs-3.15-bioc/R/library --no-vignettes --timings microbiome_1.18.0.tar.gz
###
##############################################################################
##############################################################################


* using log directory ‘/home/biocbuild/bbs-3.15-bioc/meat/microbiome.Rcheck’
* using R version 4.2.0 (2022-04-22)
* using platform: x86_64-pc-linux-gnu (64-bit)
* using session charset: UTF-8
* using option ‘--no-vignettes’
* checking for file ‘microbiome/DESCRIPTION’ ... OK
* checking extension type ... Package
* this is package ‘microbiome’ version ‘1.18.0’
* package encoding: UTF-8
* checking package namespace information ... OK
* checking package dependencies ... OK
* checking if this is a source package ... OK
* checking if there is a namespace ... OK
* checking for hidden files and directories ... OK
* checking for portable file names ... OK
* checking for sufficient/correct file permissions ... OK
* checking whether package ‘microbiome’ can be installed ... OK
* checking installed package size ... OK
* checking package directory ... OK
* checking ‘build’ directory ... OK
* checking DESCRIPTION meta-information ... OK
* checking top-level files ... OK
* checking for left-over files ... OK
* checking index information ... OK
* checking package subdirectories ... OK
* checking R files for non-ASCII characters ... OK
* checking R files for syntax errors ... OK
* checking whether the package can be loaded ... OK
* checking whether the package can be loaded with stated dependencies ... OK
* checking whether the package can be unloaded cleanly ... OK
* checking whether the namespace can be loaded with stated dependencies ... OK
* checking whether the namespace can be unloaded cleanly ... OK
* checking dependencies in R code ... OK
* checking S3 generic/method consistency ... OK
* checking replacement functions ... OK
* checking foreign function calls ... OK
* checking R code for possible problems ... OK
* checking Rd files ... OK
* checking Rd metadata ... OK
* checking Rd cross-references ... OK
* checking for missing documentation entries ... OK
* checking for code/documentation mismatches ... OK
* checking Rd \usage sections ... OK
* checking Rd contents ... OK
* checking for unstated dependencies in examples ... OK
* checking contents of ‘data’ directory ... OK
* checking data for non-ASCII characters ... OK
* checking data for ASCII and uncompressed saves ... OK
* checking files in ‘vignettes’ ... OK
* checking examples ... OK
Examples with CPU (user + system) or elapsed time > 5s
          user system elapsed
overlap 14.384  0.176   14.56
* checking for unstated dependencies in ‘tests’ ... OK
* checking tests ...
  Running ‘testthat.R’
 OK
* checking for unstated dependencies in vignettes ... OK
* checking package vignettes in ‘inst/doc’ ... OK
* checking running R code from vignettes ... SKIPPED
* checking re-building of vignette outputs ... SKIPPED
* checking PDF version of manual ... OK
* DONE

Status: OK


Installation output

microbiome.Rcheck/00install.out

##############################################################################
##############################################################################
###
### Running command:
###
###   /home/biocbuild/bbs-3.15-bioc/R/bin/R CMD INSTALL microbiome
###
##############################################################################
##############################################################################


* installing to library ‘/home/biocbuild/bbs-3.15-bioc/R/library’
* installing *source* package ‘microbiome’ ...
** using staged installation
** R
** data
** inst
** byte-compile and prepare package for lazy loading
** help
*** installing help indices
** building package indices
** installing vignettes
** testing if installed package can be loaded from temporary location
** testing if installed package can be loaded from final location
** testing if installed package keeps a record of temporary installation path
* DONE (microbiome)

Tests output

microbiome.Rcheck/tests/testthat.Rout


R version 4.2.0 (2022-04-22) -- "Vigorous Calisthenics"
Copyright (C) 2022 The R Foundation for Statistical Computing
Platform: x86_64-pc-linux-gnu (64-bit)

R is free software and comes with ABSOLUTELY NO WARRANTY.
You are welcome to redistribute it under certain conditions.
Type 'license()' or 'licence()' for distribution details.

R is a collaborative project with many contributors.
Type 'contributors()' for more information and
'citation()' on how to cite R or R packages in publications.

Type 'demo()' for some demos, 'help()' for on-line help, or
'help.start()' for an HTML browser interface to help.
Type 'q()' to quit R.

> library(testthat)
> test_check("microbiome")
Loading required package: microbiome
Loading required package: phyloseq
Loading required package: ggplot2

microbiome R package (microbiome.github.com)
    


 Copyright (C) 2011-2022 Leo Lahti, 
    Sudarshan Shetty et al. <microbiome.github.io>


Attaching package: 'microbiome'

The following object is masked from 'package:ggplot2':

    alpha

The following object is masked from 'package:base':

    transform

[ FAIL 0 | WARN 3 | SKIP 1 | PASS 83 ]

══ Skipped tests ═══════════════════════════════════════════════════════════════
• On Bioconductor (1)

[ FAIL 0 | WARN 3 | SKIP 1 | PASS 83 ]
> 
> proc.time()
   user  system elapsed 
 12.769   0.584  13.337 

Example timings

microbiome.Rcheck/microbiome-Ex.timings

nameusersystemelapsed
TibbleUtilites0.1800.0040.184
abundances0.0070.0000.007
add_besthit0.0010.0000.001
add_refseq0.0010.0000.000
aggregate_rare0.7940.0510.846
aggregate_taxa0.0920.0120.103
alpha0.0090.0040.013
associate0.0370.0000.037
baseline0.0340.0040.038
bimodality0.0020.0000.002
bimodality_sarle0.0010.0000.000
boxplot_abundance0.0550.0040.059
boxplot_alpha0.3040.0160.320
chunk_reorder0.0010.0000.001
cmat2table0.0870.0000.087
collapse_replicates0.0340.0120.046
core0.0380.0000.038
core_abundance0.0310.0000.031
core_matrix0.0000.0000.001
core_members0.0090.0000.009
coverage0.0390.0040.043
default_colors0.0000.0000.001
densityplot000
divergence0.4490.0110.461
diversity0.0080.0040.011
dominance0.0060.0040.010
dominant0.0090.0000.009
estimate_stability0.0000.0000.001
evenness0.0040.0040.007
find_optima000
gktau0.0080.0040.012
group_age0.0140.0080.022
group_bmi0.0000.0010.001
heat0.0480.0070.054
hotplot0.1160.0160.132
inequality0.0160.0040.020
intermediate_stability0.3980.0040.402
is_compositional0.0520.0000.053
log_modulo_skewness0.1560.0000.156
low_abundance0.0130.0000.013
map_levels0.0410.0080.049
merge_taxa20.0240.0000.024
meta0.0070.0000.007
microbiome-package0.0100.0000.011
multimodality000
neat0.0560.0040.061
neatsort0.1430.0040.147
overlap14.384 0.17614.560
plot_atlas0.0430.0040.046
plot_composition0.2150.0030.218
plot_core0.0670.0000.067
plot_density0.0630.0040.067
plot_frequencies0.0150.0120.027
plot_landscape0.7210.0110.733
plot_regression0.1760.0120.187
plot_taxa_prevalence0.2370.0130.249
plot_tipping0.1000.0040.104
potential_analysis0.0290.0040.033
potential_univariate000
prevalence0.0120.0000.012
psmelt20.0790.0000.079
quiet0.0010.0000.001
rare0.0190.0000.018
rare_abundance0.0250.0030.030
rare_members0.0090.0010.010
rarity0.0630.0000.063
read_biom2phyloseq0.0000.0000.001
read_csv2phyloseq0.0000.0000.001
read_mothur2phyloseq0.0000.0000.001
read_phyloseq000
readcount0.0070.0000.007
remove_samples0.0140.0000.013
remove_taxa0.0160.0000.017
richness0.0060.0030.010
spreadplot0.0580.0010.059
summarize_phyloseq0.0170.0000.017
taxa0.0060.0000.006
time_normalize0.0330.0000.032
time_sort0.1160.0000.115
timesplit0.1160.0000.115
top0.0080.0000.007
top_taxa0.0070.0000.007
transform0.2840.0000.284
ztransform0.0010.0000.000