Back to Multiple platform build/check report for BioC 3.15
ABCDEFG[H]IJKLMNOPQRSTUVWXYZ

This page was generated on 2022-05-18 12:06:52 -0400 (Wed, 18 May 2022).

HostnameOSArch (*)R versionInstalled pkgs
nebbiolo1Linux (Ubuntu 20.04.4 LTS)x86_644.2.0 (2022-04-22) -- "Vigorous Calisthenics" 4379
palomino3Windows Server 2022 Datacenterx644.2.0 (2022-04-22 ucrt) -- "Vigorous Calisthenics" 4154
merida1macOS 10.14.6 Mojavex86_644.2.0 (2022-04-22) -- "Vigorous Calisthenics" 4220
Click on any hostname to see more info about the system (e.g. compilers)      (*) as reported by 'uname -p', except on Windows and Mac OS X

INSTALL results for hypergraph on palomino3


To the developers/maintainers of the hypergraph package:
- Please allow up to 24 hours (and sometimes 48 hours) for your latest push to git@git.bioconductor.org:packages/hypergraph.git to
reflect on this report. See How and When does the builder pull? When will my changes propagate? for more information.
- Make sure to use the following settings in order to reproduce any error or warning you see on this page.

raw results

Package 921/2140HostnameOS / ArchINSTALLBUILDCHECKBUILD BIN
hypergraph 1.68.0  (landing page)
Bioconductor Package Maintainer
Snapshot Date: 2022-05-17 13:55:01 -0400 (Tue, 17 May 2022)
git_url: https://git.bioconductor.org/packages/hypergraph
git_branch: RELEASE_3_15
git_last_commit: 7d53b50
git_last_commit_date: 2022-04-26 10:57:08 -0400 (Tue, 26 Apr 2022)
nebbiolo1Linux (Ubuntu 20.04.4 LTS) / x86_64  OK    OK    OK  UNNEEDED, same version is already published
palomino3Windows Server 2022 Datacenter / x64  OK    OK    OK    OK  UNNEEDED, same version is already published
merida1macOS 10.14.6 Mojave / x86_64  OK    OK    OK    OK  UNNEEDED, same version is already published

Summary

Package: hypergraph
Version: 1.68.0
Command: F:\biocbuild\bbs-3.15-bioc\R\bin\R.exe CMD INSTALL hypergraph
StartedAt: 2022-05-17 15:33:47 -0400 (Tue, 17 May 2022)
EndedAt: 2022-05-17 15:34:02 -0400 (Tue, 17 May 2022)
EllapsedTime: 15.3 seconds
RetCode: 0
Status:   OK  

Command output

##############################################################################
##############################################################################
###
### Running command:
###
###   F:\biocbuild\bbs-3.15-bioc\R\bin\R.exe CMD INSTALL hypergraph
###
##############################################################################
##############################################################################


* installing to library 'F:/biocbuild/bbs-3.15-bioc/R/library'
* installing *source* package 'hypergraph' ...
** using staged installation
** R
** inst
** byte-compile and prepare package for lazy loading
** help
*** installing help indices
** building package indices
** testing if installed package can be loaded from temporary location
** testing if installed package can be loaded from final location
** testing if installed package keeps a record of temporary installation path
* DONE (hypergraph)