Back to Multiple platform build/check report for BioC 3.15
A[B]CDEFGHIJKLMNOPQRSTUVWXYZ

This page was generated on 2022-05-25 12:06:11 -0400 (Wed, 25 May 2022).

HostnameOSArch (*)R versionInstalled pkgs
nebbiolo1Linux (Ubuntu 20.04.4 LTS)x86_644.2.0 (2022-04-22) -- "Vigorous Calisthenics" 4380
palomino3Windows Server 2022 Datacenterx644.2.0 (2022-04-22 ucrt) -- "Vigorous Calisthenics" 4155
merida1macOS 10.14.6 Mojavex86_644.2.0 (2022-04-22) -- "Vigorous Calisthenics" 4221
Click on any hostname to see more info about the system (e.g. compilers)      (*) as reported by 'uname -p', except on Windows and Mac OS X

BUILD BIN results for batchelor on palomino3


To the developers/maintainers of the batchelor package:
- Please allow up to 24 hours (and sometimes 48 hours) for your latest push to git@git.bioconductor.org:packages/batchelor.git to
reflect on this report. See How and When does the builder pull? When will my changes propagate? for more information.
- Make sure to use the following settings in order to reproduce any error or warning you see on this page.

raw results

Package 122/2140HostnameOS / ArchINSTALLBUILDCHECKBUILD BIN
batchelor 1.12.0  (landing page)
Aaron Lun
Snapshot Date: 2022-05-24 13:55:11 -0400 (Tue, 24 May 2022)
git_url: https://git.bioconductor.org/packages/batchelor
git_branch: RELEASE_3_15
git_last_commit: b5ab993
git_last_commit_date: 2022-04-26 11:54:12 -0400 (Tue, 26 Apr 2022)
nebbiolo1Linux (Ubuntu 20.04.4 LTS) / x86_64  OK    OK    OK  UNNEEDED, same version is already published
palomino3Windows Server 2022 Datacenter / x64  OK    OK    OK    OK  UNNEEDED, same version is already published
merida1macOS 10.14.6 Mojave / x86_64  OK    OK    OK    OK  UNNEEDED, same version is already published

Summary

Package: batchelor
Version: 1.12.0
Command: rm -rf batchelor.buildbin-libdir && mkdir batchelor.buildbin-libdir && F:\biocbuild\bbs-3.15-bioc\R\bin\R.exe CMD INSTALL --build --library=batchelor.buildbin-libdir batchelor_1.12.0.tar.gz
StartedAt: 2022-05-25 05:16:36 -0400 (Wed, 25 May 2022)
EndedAt: 2022-05-25 05:17:37 -0400 (Wed, 25 May 2022)
EllapsedTime: 60.7 seconds
RetCode: 0
Status:   OK  
PackageFile: batchelor_1.12.0.zip
PackageFileSize: 1.45 MiB

Command output

##############################################################################
##############################################################################
###
### Running command:
###
###   rm -rf batchelor.buildbin-libdir && mkdir batchelor.buildbin-libdir && F:\biocbuild\bbs-3.15-bioc\R\bin\R.exe CMD INSTALL --build --library=batchelor.buildbin-libdir batchelor_1.12.0.tar.gz
###
##############################################################################
##############################################################################


* installing *source* package 'batchelor' ...
** using staged installation
** libs
g++  -std=gnu++11 -I"F:/biocbuild/bbs-3.15-bioc/R/include" -DNDEBUG  -I'F:/biocbuild/bbs-3.15-bioc/R/library/Rcpp/include'   -I"C:/rtools42/x86_64-w64-mingw32.static.posix/include"     -O2 -Wall  -mfpmath=sse -msse2 -mstackrealign  -c RcppExports.cpp -o RcppExports.o
g++  -std=gnu++11 -I"F:/biocbuild/bbs-3.15-bioc/R/include" -DNDEBUG  -I'F:/biocbuild/bbs-3.15-bioc/R/library/Rcpp/include'   -I"C:/rtools42/x86_64-w64-mingw32.static.posix/include"     -O2 -Wall  -mfpmath=sse -msse2 -mstackrealign  -c adjust_shift_variance.cpp -o adjust_shift_variance.o
adjust_shift_variance.cpp: In function 'Rcpp::NumericVector adjust_shift_variance(Rcpp::NumericMatrix, Rcpp::NumericMatrix, Rcpp::NumericMatrix, double, Rcpp::IntegerVector, Rcpp::IntegerVector)':
adjust_shift_variance.cpp:34:16: warning: comparison of integer expressions of different signedness: 'const size_t' {aka 'const long long unsigned int'} and 'int' [-Wsign-compare]
   34 |     if (ngenes != data2.nrow() || ngenes != vect.ncol()) {
      |         ~~~~~~~^~~~~~~~~~~~~~~
adjust_shift_variance.cpp:34:42: warning: comparison of integer expressions of different signedness: 'const size_t' {aka 'const long long unsigned int'} and 'int' [-Wsign-compare]
   34 |     if (ngenes != data2.nrow() || ngenes != vect.ncol()) {
      |                                   ~~~~~~~^~~~~~~~~~~~~~
adjust_shift_variance.cpp:39:16: warning: comparison of integer expressions of different signedness: 'const size_t' {aka 'const long long unsigned int'} and 'int' [-Wsign-compare]
   39 |     if (ncells != vect.nrow()) {
      |         ~~~~~~~^~~~~~~~~~~~~~
adjust_shift_variance.cpp:118:39: warning: comparison of integer expressions of different signedness: 'size_t' {aka 'long long unsigned int'} and 'R_xlen_t' {aka 'long long int'} [-Wsign-compare]
  118 |             for (size_t other=0; other<restrict1.size(); ++other) {
      |                                  ~~~~~^~~~~~~~~~~~~~~~~
g++  -std=gnu++11 -I"F:/biocbuild/bbs-3.15-bioc/R/include" -DNDEBUG  -I'F:/biocbuild/bbs-3.15-bioc/R/library/Rcpp/include'   -I"C:/rtools42/x86_64-w64-mingw32.static.posix/include"     -O2 -Wall  -mfpmath=sse -msse2 -mstackrealign  -c find_mutual_nns.cpp -o find_mutual_nns.o
g++  -std=gnu++11 -I"F:/biocbuild/bbs-3.15-bioc/R/include" -DNDEBUG  -I'F:/biocbuild/bbs-3.15-bioc/R/library/Rcpp/include'   -I"C:/rtools42/x86_64-w64-mingw32.static.posix/include"     -O2 -Wall  -mfpmath=sse -msse2 -mstackrealign  -c smooth_gaussian_kernel.cpp -o smooth_gaussian_kernel.o
smooth_gaussian_kernel.cpp: In function 'SEXPREC* smooth_gaussian_kernel(Rcpp::NumericMatrix, Rcpp::IntegerVector, Rcpp::NumericMatrix, double)':
smooth_gaussian_kernel.cpp:18:13: warning: comparison of integer expressions of different signedness: 'const size_t' {aka 'const long long unsigned int'} and 'R_xlen_t' {aka 'long long int'} [-Wsign-compare]
   18 |     if (nmnn!=index.size()) {
      |         ~~~~^~~~~~~~~~~~~~
g++  -std=gnu++11 -I"F:/biocbuild/bbs-3.15-bioc/R/include" -DNDEBUG  -I'F:/biocbuild/bbs-3.15-bioc/R/library/Rcpp/include'   -I"C:/rtools42/x86_64-w64-mingw32.static.posix/include"     -O2 -Wall  -mfpmath=sse -msse2 -mstackrealign  -c utils.cpp -o utils.o
g++ -shared -s -static-libgcc -o batchelor.dll tmp.def RcppExports.o adjust_shift_variance.o find_mutual_nns.o smooth_gaussian_kernel.o utils.o -LC:/rtools42/x86_64-w64-mingw32.static.posix/lib/x64 -LC:/rtools42/x86_64-w64-mingw32.static.posix/lib -LF:/biocbuild/bbs-3.15-bioc/R/bin/x64 -lR
installing to F:/biocbuild/bbs-3.15-bioc/meat/batchelor.buildbin-libdir/00LOCK-batchelor/00new/batchelor/libs/x64
** R
** inst
** byte-compile and prepare package for lazy loading
** help
*** installing help indices
** building package indices
** installing vignettes
** testing if installed package can be loaded from temporary location
** testing if installed package can be loaded from final location
** testing if installed package keeps a record of temporary installation path
* MD5 sums
packaged installation of 'batchelor' as batchelor_1.12.0.zip
* DONE (batchelor)