Back to Multiple platform build/check report for BioC 3.15
[A]BCDEFGHIJKLMNOPQRSTUVWXYZ

This page was generated on 2022-05-16 11:04:39 -0400 (Mon, 16 May 2022).

HostnameOSArch (*)R versionInstalled pkgs
nebbiolo1Linux (Ubuntu 20.04.4 LTS)x86_644.2.0 (2022-04-22) -- "Vigorous Calisthenics" 4379
palomino3Windows Server 2022 Datacenterx644.2.0 (2022-04-22 ucrt) -- "Vigorous Calisthenics" 4153
merida1macOS 10.14.6 Mojavex86_644.2.0 (2022-04-22) -- "Vigorous Calisthenics" 4220
Click on any hostname to see more info about the system (e.g. compilers)      (*) as reported by 'uname -p', except on Windows and Mac OS X

INSTALL results for artMS on nebbiolo1


To the developers/maintainers of the artMS package:
- Please allow up to 24 hours (and sometimes 48 hours) for your latest push to git@git.bioconductor.org:packages/artMS.git to
reflect on this report. See How and When does the builder pull? When will my changes propagate? for more information.
- Make sure to use the following settings in order to reproduce any error or warning you see on this page.

raw results

Package 82/2140HostnameOS / ArchINSTALLBUILDCHECKBUILD BIN
artMS 1.14.0  (landing page)
David Jimenez-Morales
Snapshot Date: 2022-05-15 13:55:12 -0400 (Sun, 15 May 2022)
git_url: https://git.bioconductor.org/packages/artMS
git_branch: RELEASE_3_15
git_last_commit: 6bdad67
git_last_commit_date: 2022-04-26 11:51:59 -0400 (Tue, 26 Apr 2022)
nebbiolo1Linux (Ubuntu 20.04.4 LTS) / x86_64  OK    OK    OK  UNNEEDED, same version is already published
palomino3Windows Server 2022 Datacenter / x64  OK    OK    OK    OK  YES
merida1macOS 10.14.6 Mojave / x86_64  OK    OK    OK    OK  YES

Summary

Package: artMS
Version: 1.14.0
Command: /home/biocbuild/bbs-3.15-bioc/R/bin/R CMD INSTALL artMS
StartedAt: 2022-05-15 15:25:50 -0400 (Sun, 15 May 2022)
EndedAt: 2022-05-15 15:26:18 -0400 (Sun, 15 May 2022)
EllapsedTime: 28.1 seconds
RetCode: 0
Status:   OK  

Command output

##############################################################################
##############################################################################
###
### Running command:
###
###   /home/biocbuild/bbs-3.15-bioc/R/bin/R CMD INSTALL artMS
###
##############################################################################
##############################################################################


* installing to library ‘/home/biocbuild/bbs-3.15-bioc/R/library’
* installing *source* package ‘artMS’ ...
** using staged installation
** R
** data
*** moving datasets to lazyload DB
** inst
** byte-compile and prepare package for lazy loading
** help
*** installing help indices
** building package indices
** installing vignettes
** testing if installed package can be loaded from temporary location
** testing if installed package can be loaded from final location
** testing if installed package keeps a record of temporary installation path
* DONE (artMS)