Back to Multiple platform build/check report for BioC 3.15
ABCDEFGHIJKLMNOPQR[S]TUVWXYZ

This page was generated on 2022-06-24 12:05:24 -0400 (Fri, 24 Jun 2022).

HostnameOSArch (*)R versionInstalled pkgs
nebbiolo1Linux (Ubuntu 20.04.4 LTS)x86_644.2.0 (2022-04-22) -- "Vigorous Calisthenics" 4380
palomino3Windows Server 2022 Datacenterx644.2.0 (2022-04-22 ucrt) -- "Vigorous Calisthenics" 4156
merida1macOS 10.14.6 Mojavex86_644.2.0 (2022-04-22) -- "Vigorous Calisthenics" 4221
Click on any hostname to see more info about the system (e.g. compilers)      (*) as reported by 'uname -p', except on Windows and Mac OS X

CHECK results for SIM on nebbiolo1


To the developers/maintainers of the SIM package:
- Please allow up to 24 hours (and sometimes 48 hours) for your latest push to git@git.bioconductor.org:packages/SIM.git to
reflect on this report. See How and When does the builder pull? When will my changes propagate? for more information.
- Make sure to use the following settings in order to reproduce any error or warning you see on this page.

raw results

Package 1844/2140HostnameOS / ArchINSTALLBUILDCHECKBUILD BIN
SIM 1.66.0  (landing page)
Renee X. de Menezes
Snapshot Date: 2022-06-23 13:55:15 -0400 (Thu, 23 Jun 2022)
git_url: https://git.bioconductor.org/packages/SIM
git_branch: RELEASE_3_15
git_last_commit: 458303e
git_last_commit_date: 2022-04-26 11:01:26 -0400 (Tue, 26 Apr 2022)
nebbiolo1Linux (Ubuntu 20.04.4 LTS) / x86_64  OK    OK    OK  UNNEEDED, same version is already published
palomino3Windows Server 2022 Datacenter / x64  OK    OK    OK    OK  UNNEEDED, same version is already published
merida1macOS 10.14.6 Mojave / x86_64  OK    OK    OK    NA  

Summary

Package: SIM
Version: 1.66.0
Command: /home/biocbuild/bbs-3.15-bioc/R/bin/R CMD check --install=check:SIM.install-out.txt --library=/home/biocbuild/bbs-3.15-bioc/R/library --no-vignettes --timings SIM_1.66.0.tar.gz
StartedAt: 2022-06-23 22:03:26 -0400 (Thu, 23 Jun 2022)
EndedAt: 2022-06-23 22:05:37 -0400 (Thu, 23 Jun 2022)
EllapsedTime: 131.7 seconds
RetCode: 0
Status:   OK  
CheckDir: SIM.Rcheck
Warnings: 0

Command output

##############################################################################
##############################################################################
###
### Running command:
###
###   /home/biocbuild/bbs-3.15-bioc/R/bin/R CMD check --install=check:SIM.install-out.txt --library=/home/biocbuild/bbs-3.15-bioc/R/library --no-vignettes --timings SIM_1.66.0.tar.gz
###
##############################################################################
##############################################################################


* using log directory ‘/home/biocbuild/bbs-3.15-bioc/meat/SIM.Rcheck’
* using R version 4.2.0 (2022-04-22)
* using platform: x86_64-pc-linux-gnu (64-bit)
* using session charset: UTF-8
* using option ‘--no-vignettes’
* checking for file ‘SIM/DESCRIPTION’ ... OK
* checking extension type ... Package
* this is package ‘SIM’ version ‘1.66.0’
* checking package namespace information ... OK
* checking package dependencies ... OK
* checking if this is a source package ... OK
* checking if there is a namespace ... OK
* checking for hidden files and directories ... OK
* checking for portable file names ... OK
* checking for sufficient/correct file permissions ... OK
* checking whether package ‘SIM’ can be installed ... OK
* checking installed package size ... OK
* checking package directory ... OK
* checking ‘build’ directory ... OK
* checking DESCRIPTION meta-information ... OK
* checking top-level files ... OK
* checking for left-over files ... OK
* checking index information ... OK
* checking package subdirectories ... OK
* checking R files for non-ASCII characters ... OK
* checking R files for syntax errors ... OK
* checking whether the package can be loaded ... OK
* checking whether the package can be loaded with stated dependencies ... OK
* checking whether the package can be unloaded cleanly ... OK
* checking whether the namespace can be loaded with stated dependencies ... OK
* checking whether the namespace can be unloaded cleanly ... OK
* checking dependencies in R code ... NOTE
'library' or 'require' call to ‘biomaRt’ in package code.
  Please use :: or requireNamespace() instead.
  See section 'Suggested packages' in the 'Writing R Extensions' manual.
Package in Depends field not imported from: ‘quantreg’
  These packages need to be imported from (in the NAMESPACE file)
  for when this namespace is loaded but not attached.
* checking S3 generic/method consistency ... OK
* checking replacement functions ... OK
* checking foreign function calls ... OK
* checking R code for possible problems ... NOTE
File ‘SIM/R/zzz.R’:
  .onAttach calls:
    library.dynam("SIM", pkg, lib)

See section ‘Good practice’ in '?.onAttach'.

dependent.heatmap: warning in get(as.character(adjust[[2]]), env =
  attr(adjust, ".Environment")): partial argument match of 'env' to
  'envir'
sim.plot.zoom.in: warning in eval(call, env = attr(call, "env")):
  partial argument match of 'env' to 'envir'
sim.update.chrom.table: warning in factor(table$name, level = c(1:22,
  "X", "Y")): partial argument match of 'level' to 'levels'
assemble.data: no visible binding for global variable ‘chrom.table’
convertGenomicRegion: no visible binding for global variable
  ‘chrom.table’
dependent.heatmap: no visible global function definition for ‘strwidth’
getoverlappingregions: no visible global function definition for
  ‘useMart’
getoverlappingregions: no visible global function definition for
  ‘getBM’
independent.heatmap: no visible global function definition for
  ‘strwidth’
link.metadata: no visible binding for global variable ‘expr.data’
link.metadata: no visible binding for global variable ‘hgu133plus2CHR’
link.metadata: no visible binding for global variable
  ‘hgu133plus2CHRLOC’
link.metadata: no visible binding for global variable
  ‘hgu133plus2SYMBOL’
plotCytobands: no visible binding for global variable ‘chrom.table’
sim.plot.overlapping.indep.dep.features: no visible global function
  definition for ‘box’
sim.plot.pvals.on.genome: no visible binding for global variable
  ‘chrom.table’
sim.update.chrom.table: no visible global function definition for
  ‘dbConnect’
sim.update.chrom.table: no visible global function definition for
  ‘MySQL’
sim.update.chrom.table: no visible global function definition for
  ‘dbGetQuery’
Undefined global functions or variables:
  MySQL box chrom.table dbConnect dbGetQuery expr.data getBM
  hgu133plus2CHR hgu133plus2CHRLOC hgu133plus2SYMBOL strwidth useMart
Consider adding
  importFrom("graphics", "box", "strwidth")
to your NAMESPACE file.
* checking Rd files ... OK
* checking Rd metadata ... OK
* checking Rd cross-references ... OK
* checking for missing documentation entries ... OK
* checking for code/documentation mismatches ... OK
* checking Rd \usage sections ... OK
* checking Rd contents ... OK
* checking for unstated dependencies in examples ... OK
* checking contents of ‘data’ directory ... OK
* checking data for non-ASCII characters ... OK
* checking data for ASCII and uncompressed saves ... OK
* checking line endings in C/C++/Fortran sources/headers ... OK
* checking compiled code ... NOTE
Note: information on .o files is not available
* checking files in ‘vignettes’ ... OK
* checking examples ... OK
Examples with CPU (user + system) or elapsed time > 5s
             user system elapsed
SIM-package 5.679   0.17   5.849
* checking for unstated dependencies in vignettes ... OK
* checking package vignettes in ‘inst/doc’ ... OK
* checking running R code from vignettes ... SKIPPED
* checking re-building of vignette outputs ... SKIPPED
* checking PDF version of manual ... OK
* DONE

Status: 3 NOTEs
See
  ‘/home/biocbuild/bbs-3.15-bioc/meat/SIM.Rcheck/00check.log’
for details.



Installation output

SIM.Rcheck/00install.out

##############################################################################
##############################################################################
###
### Running command:
###
###   /home/biocbuild/bbs-3.15-bioc/R/bin/R CMD INSTALL SIM
###
##############################################################################
##############################################################################


* installing to library ‘/home/biocbuild/bbs-3.15-bioc/R/library’
* installing *source* package ‘SIM’ ...
** using staged installation
** libs
gcc -I"/home/biocbuild/bbs-3.15-bioc/R/include" -DNDEBUG   -I/usr/local/include   -fpic  -g -O2  -Wall -c withinWindow.c -o withinWindow.o
gcc -shared -L/home/biocbuild/bbs-3.15-bioc/R/lib -L/usr/local/lib -o SIM.so withinWindow.o -L/home/biocbuild/bbs-3.15-bioc/R/lib -lR
installing to /home/biocbuild/bbs-3.15-bioc/R/library/00LOCK-SIM/00new/SIM/libs
** R
** data
** inst
** byte-compile and prepare package for lazy loading
** help
*** installing help indices
** building package indices
** installing vignettes
** testing if installed package can be loaded from temporary location
** checking absolute paths in shared objects and dynamic libraries
** testing if installed package can be loaded from final location
** testing if installed package keeps a record of temporary installation path
* DONE (SIM)

Tests output


Example timings

SIM.Rcheck/SIM-Ex.timings

nameusersystemelapsed
RESOURCERER.annotation.to.ID0.0000.0010.000
SIM-package5.6790.1705.849
acgh.data0.0020.0000.002
assemble.data0.0200.0040.024
chrom.table0.0010.0000.001
expr.data0.0020.0000.002
getoverlappingregions0.0000.0000.001
impute.nas.by.surrounding000
integrated.analysis4.2020.0844.286
link.metadata0.0010.0000.001
samples0.0010.0000.002
sim.plot.overlapping.indep.dep.features0.0350.0040.039
sim.plot.pvals.on.genome0.1000.0040.104
sim.plot.pvals.on.region0.0140.0000.014
sim.plot.zoom.in0.2190.0000.219
sim.plot.zscore.heatmap0.3180.0000.318
sim.update.chrom.table000
tabulate.pvals0.0040.0000.003
tabulate.top.dep.features0.0100.0000.011
tabulate.top.indep.features0.0090.0000.009