Back to Multiple platform build/check report for BioC 3.15
ABCDEFGHIJKLMNO[P]QRSTUVWXYZ

This page was generated on 2022-05-16 11:06:43 -0400 (Mon, 16 May 2022).

HostnameOSArch (*)R versionInstalled pkgs
nebbiolo1Linux (Ubuntu 20.04.4 LTS)x86_644.2.0 (2022-04-22) -- "Vigorous Calisthenics" 4379
palomino3Windows Server 2022 Datacenterx644.2.0 (2022-04-22 ucrt) -- "Vigorous Calisthenics" 4153
merida1macOS 10.14.6 Mojavex86_644.2.0 (2022-04-22) -- "Vigorous Calisthenics" 4220
Click on any hostname to see more info about the system (e.g. compilers)      (*) as reported by 'uname -p', except on Windows and Mac OS X

CHECK results for PhyloProfile on palomino3


To the developers/maintainers of the PhyloProfile package:
- Please allow up to 24 hours (and sometimes 48 hours) for your latest push to git@git.bioconductor.org:packages/PhyloProfile.git to
reflect on this report. See How and When does the builder pull? When will my changes propagate? for more information.
- Make sure to use the following settings in order to reproduce any error or warning you see on this page.

raw results

Package 1452/2140HostnameOS / ArchINSTALLBUILDCHECKBUILD BIN
PhyloProfile 1.10.1  (landing page)
Vinh Tran
Snapshot Date: 2022-05-15 13:55:12 -0400 (Sun, 15 May 2022)
git_url: https://git.bioconductor.org/packages/PhyloProfile
git_branch: RELEASE_3_15
git_last_commit: bbf42d9
git_last_commit_date: 2022-04-29 05:56:42 -0400 (Fri, 29 Apr 2022)
nebbiolo1Linux (Ubuntu 20.04.4 LTS) / x86_64  OK    OK    OK  UNNEEDED, same version is already published
palomino3Windows Server 2022 Datacenter / x64  OK    OK    OK    OK  UNNEEDED, same version is already published
merida1macOS 10.14.6 Mojave / x86_64  OK    OK    OK    OK  UNNEEDED, same version is already published

Summary

Package: PhyloProfile
Version: 1.10.1
Command: F:\biocbuild\bbs-3.15-bioc\R\bin\R.exe CMD check --no-multiarch --install=check:PhyloProfile.install-out.txt --library=F:\biocbuild\bbs-3.15-bioc\R\library --no-vignettes --timings PhyloProfile_1.10.1.tar.gz
StartedAt: 2022-05-16 02:16:47 -0400 (Mon, 16 May 2022)
EndedAt: 2022-05-16 02:19:31 -0400 (Mon, 16 May 2022)
EllapsedTime: 163.8 seconds
RetCode: 0
Status:   OK  
CheckDir: PhyloProfile.Rcheck
Warnings: 0

Command output

##############################################################################
##############################################################################
###
### Running command:
###
###   F:\biocbuild\bbs-3.15-bioc\R\bin\R.exe CMD check --no-multiarch --install=check:PhyloProfile.install-out.txt --library=F:\biocbuild\bbs-3.15-bioc\R\library --no-vignettes --timings PhyloProfile_1.10.1.tar.gz
###
##############################################################################
##############################################################################


* using log directory 'F:/biocbuild/bbs-3.15-bioc/meat/PhyloProfile.Rcheck'
* using R version 4.2.0 (2022-04-22 ucrt)
* using platform: x86_64-w64-mingw32 (64-bit)
* using session charset: UTF-8
* using option '--no-vignettes'
* checking for file 'PhyloProfile/DESCRIPTION' ... OK
* this is package 'PhyloProfile' version '1.10.1'
* package encoding: UTF-8
* checking package namespace information ... OK
* checking package dependencies ... OK
* checking if this is a source package ... OK
* checking if there is a namespace ... OK
* checking for hidden files and directories ... OK
* checking for portable file names ... OK
* checking whether package 'PhyloProfile' can be installed ... OK
* checking installed package size ... OK
* checking package directory ... OK
* checking 'build' directory ... OK
* checking DESCRIPTION meta-information ... OK
* checking top-level files ... OK
* checking for left-over files ... OK
* checking index information ... OK
* checking package subdirectories ... OK
* checking R files for non-ASCII characters ... OK
* checking R files for syntax errors ... OK
* checking whether the package can be loaded ... OK
* checking whether the package can be loaded with stated dependencies ... OK
* checking whether the package can be unloaded cleanly ... OK
* checking whether the namespace can be loaded with stated dependencies ... OK
* checking whether the namespace can be unloaded cleanly ... OK
* checking dependencies in R code ... OK
* checking S3 generic/method consistency ... OK
* checking replacement functions ... OK
* checking foreign function calls ... OK
* checking R code for possible problems ... OK
* checking Rd files ... OK
* checking Rd metadata ... OK
* checking Rd cross-references ... OK
* checking for missing documentation entries ... OK
* checking for code/documentation mismatches ... OK
* checking Rd \usage sections ... OK
* checking Rd contents ... OK
* checking for unstated dependencies in examples ... OK
* checking contents of 'data' directory ... OK
* checking data for non-ASCII characters ... OK
* checking data for ASCII and uncompressed saves ... OK
* checking files in 'vignettes' ... OK
* checking examples ... OK
* checking for unstated dependencies in 'tests' ... OK
* checking tests ...
  Running 'testthat.R'
 OK
* checking for unstated dependencies in vignettes ... OK
* checking package vignettes in 'inst/doc' ... OK
* checking running R code from vignettes ... SKIPPED
* checking re-building of vignette outputs ... SKIPPED
* checking PDF version of manual ... OK
* DONE

Status: OK


Installation output

PhyloProfile.Rcheck/00install.out

##############################################################################
##############################################################################
###
### Running command:
###
###   F:\biocbuild\bbs-3.15-bioc\R\bin\R.exe CMD INSTALL PhyloProfile
###
##############################################################################
##############################################################################


* installing to library 'F:/biocbuild/bbs-3.15-bioc/R/library'
* installing *source* package 'PhyloProfile' ...
** using staged installation
** R
** data
** inst
** byte-compile and prepare package for lazy loading
** help
*** installing help indices
** building package indices
** installing vignettes
** testing if installed package can be loaded from temporary location
** testing if installed package can be loaded from final location
** testing if installed package keeps a record of temporary installation path
* DONE (PhyloProfile)

Tests output

PhyloProfile.Rcheck/tests/testthat.Rout


R version 4.2.0 (2022-04-22 ucrt) -- "Vigorous Calisthenics"
Copyright (C) 2022 The R Foundation for Statistical Computing
Platform: x86_64-w64-mingw32/x64 (64-bit)

R is free software and comes with ABSOLUTELY NO WARRANTY.
You are welcome to redistribute it under certain conditions.
Type 'license()' or 'licence()' for distribution details.

R is a collaborative project with many contributors.
Type 'contributors()' for more information and
'citation()' on how to cite R or R packages in publications.

Type 'demo()' for some demos, 'help()' for on-line help, or
'help.start()' for an HTML browser interface to help.
Type 'q()' to quit R.

> library(testthat)
> library(PhyloProfile)
> 
> test_check("PhyloProfile")
[ FAIL 0 | WARN 0 | SKIP 0 | PASS 20 ]
> 
> proc.time()
   user  system elapsed 
   7.76    0.50    8.26 

Example timings

PhyloProfile.Rcheck/PhyloProfile-Ex.timings

nameusersystemelapsed
calcPresSpec0.040.000.05
checkInputValidity0.030.000.03
checkNewick000
checkOmaID000
clusterDataDend0.050.000.04
compareMedianTaxonGroups0.080.000.08
compareTaxonGroups0.030.010.05
createArchiPlot0.550.000.55
createGeneAgePlot0.190.020.20
createLongMatrix0.040.000.05
createPercentageDistributionData0.140.030.17
createProfileFromOma000
createRootedTree0.020.000.01
createVarDistPlot0.200.000.21
createVariableDistributionData0.020.000.01
createVariableDistributionDataSubset0.000.020.02
dataCustomizedPlot0.010.000.01
dataFeatureTaxGroup0.040.000.04
dataMainPlot0.010.020.03
dataVarDistTaxGroup000
estimateGeneAge0.130.010.14
fastaParser0.040.000.05
featureDistTaxPlot0.140.000.14
filterProfileData0.110.000.11
fromInputToProfile0.110.010.13
geneAgePlotDf000
generateSinglePlot0.280.000.28
getAllDomainsOma000
getAllFastaOma000
getCommonAncestor0.030.000.03
getCoreGene0.090.020.11
getDataClustering0.000.010.01
getDataForOneOma000
getDendrogram0.050.000.05
getDistanceMatrix0.020.000.01
getDomainFolder000
getFastaFromFasInput0.010.000.02
getFastaFromFile0.020.000.02
getFastaFromFolder000
getIDsRank0.030.000.03
getInputTaxaID000
getInputTaxaName0.010.000.01
getNameList0.040.000.03
getOmaDataForOneOrtholog000
getOmaDomainFromURL000
getOmaMembers000
getQualColForVector0.010.000.02
getSelectedFastaOma000
getSelectedTaxonNames0.000.020.02
getTaxonomyInfo0.020.000.01
getTaxonomyMatrix0.060.080.14
getTaxonomyRanks000
gridArrangeSharedLegend0.470.000.47
heatmapPlotting0.20.00.2
highlightProfilePlot0.200.000.21
mainTaxonomyRank000
pairDomainPlotting000
parseDomainInput0.020.000.01
parseInfoProfile0.510.010.53
processNcbiTaxonomy0.100.050.58
qualitativeColours000
rankIndexing000
reduceProfile0.020.000.02
runPhyloProfile0.090.020.11
singleDomainPlotting000
sortDomains000
sortInputTaxa0.080.000.08
sortTaxaFromTree000
taxonomyTableCreator0.140.000.14
varDistTaxPlot0.890.000.89
wideToLong0.020.000.01
xmlParser0.010.010.03