Back to Multiple platform build/check report for BioC 3.15
ABCDEFGHIJKL[M]NOPQRSTUVWXYZ

This page was generated on 2022-05-16 11:06:35 -0400 (Mon, 16 May 2022).

HostnameOSArch (*)R versionInstalled pkgs
nebbiolo1Linux (Ubuntu 20.04.4 LTS)x86_644.2.0 (2022-04-22) -- "Vigorous Calisthenics" 4379
palomino3Windows Server 2022 Datacenterx644.2.0 (2022-04-22 ucrt) -- "Vigorous Calisthenics" 4153
merida1macOS 10.14.6 Mojavex86_644.2.0 (2022-04-22) -- "Vigorous Calisthenics" 4220
Click on any hostname to see more info about the system (e.g. compilers)      (*) as reported by 'uname -p', except on Windows and Mac OS X

CHECK results for MSstatsLiP on palomino3


To the developers/maintainers of the MSstatsLiP package:
- Please allow up to 24 hours (and sometimes 48 hours) for your latest push to git@git.bioconductor.org:packages/MSstatsLiP.git to
reflect on this report. See How and When does the builder pull? When will my changes propagate? for more information.
- Make sure to use the following settings in order to reproduce any error or warning you see on this page.

raw results

Package 1261/2140HostnameOS / ArchINSTALLBUILDCHECKBUILD BIN
MSstatsLiP 1.2.1  (landing page)
Devon Kohler
Snapshot Date: 2022-05-15 13:55:12 -0400 (Sun, 15 May 2022)
git_url: https://git.bioconductor.org/packages/MSstatsLiP
git_branch: RELEASE_3_15
git_last_commit: 87a9dd6
git_last_commit_date: 2022-04-28 09:05:59 -0400 (Thu, 28 Apr 2022)
nebbiolo1Linux (Ubuntu 20.04.4 LTS) / x86_64  OK    OK    OK  UNNEEDED, same version is already published
palomino3Windows Server 2022 Datacenter / x64  OK    OK    OK    OK  YES
merida1macOS 10.14.6 Mojave / x86_64  OK    OK    OK    OK  YES

Summary

Package: MSstatsLiP
Version: 1.2.1
Command: F:\biocbuild\bbs-3.15-bioc\R\bin\R.exe CMD check --no-multiarch --install=check:MSstatsLiP.install-out.txt --library=F:\biocbuild\bbs-3.15-bioc\R\library --no-vignettes --timings MSstatsLiP_1.2.1.tar.gz
StartedAt: 2022-05-16 01:38:28 -0400 (Mon, 16 May 2022)
EndedAt: 2022-05-16 01:42:35 -0400 (Mon, 16 May 2022)
EllapsedTime: 246.6 seconds
RetCode: 0
Status:   OK  
CheckDir: MSstatsLiP.Rcheck
Warnings: 0

Command output

##############################################################################
##############################################################################
###
### Running command:
###
###   F:\biocbuild\bbs-3.15-bioc\R\bin\R.exe CMD check --no-multiarch --install=check:MSstatsLiP.install-out.txt --library=F:\biocbuild\bbs-3.15-bioc\R\library --no-vignettes --timings MSstatsLiP_1.2.1.tar.gz
###
##############################################################################
##############################################################################


* using log directory 'F:/biocbuild/bbs-3.15-bioc/meat/MSstatsLiP.Rcheck'
* using R version 4.2.0 (2022-04-22 ucrt)
* using platform: x86_64-w64-mingw32 (64-bit)
* using session charset: UTF-8
* using option '--no-vignettes'
* checking for file 'MSstatsLiP/DESCRIPTION' ... OK
* checking extension type ... Package
* this is package 'MSstatsLiP' version '1.2.1'
* package encoding: UTF-8
* checking package namespace information ... OK
* checking package dependencies ... OK
* checking if this is a source package ... OK
* checking if there is a namespace ... OK
* checking for hidden files and directories ... OK
* checking for portable file names ... OK
* checking whether package 'MSstatsLiP' can be installed ... OK
* checking installed package size ... OK
* checking package directory ... OK
* checking 'build' directory ... OK
* checking DESCRIPTION meta-information ... OK
* checking top-level files ... OK
* checking for left-over files ... OK
* checking index information ... OK
* checking package subdirectories ... OK
* checking R files for non-ASCII characters ... OK
* checking R files for syntax errors ... OK
* checking whether the package can be loaded ... OK
* checking whether the package can be loaded with stated dependencies ... OK
* checking whether the package can be unloaded cleanly ... OK
* checking whether the namespace can be loaded with stated dependencies ... OK
* checking whether the namespace can be unloaded cleanly ... OK
* checking dependencies in R code ... OK
* checking S3 generic/method consistency ... OK
* checking replacement functions ... OK
* checking foreign function calls ... OK
* checking R code for possible problems ... NOTE
ResistanceBarcodePlotLiP: no visible binding for global variable
  'GROUP'
ResistanceBarcodePlotLiP: no visible binding for global variable
  'Protein'
ResistanceBarcodePlotLiP: no visible binding for global variable
  'uniprot_iso'
ResistanceBarcodePlotLiP: no visible binding for global variable
  'PeptideSequence'
ResistanceBarcodePlotLiP: no visible binding for global variable
  'Accessibility_ratio'
ResistanceBarcodePlotLiP: no visible binding for global variable
  'Index'
ResistanceBarcodePlotLiP: no visible binding for global variable
  'Label'
ResistanceBarcodePlotLiP: no visible binding for global variable 'sig'
ResistanceBarcodePlotLiP: no visible binding for global variable
  'Coverage'
StructuralBarcodePlotLiP: no visible binding for global variable
  'NSEMI_TRI'
StructuralBarcodePlotLiP: no visible binding for global variable
  'CSEMI_TRI'
calculateProteolyticResistance: no visible binding for global variable
  'LogIntensities'
calculateProteolyticResistance: no visible binding for global variable
  'Protein.y'
Undefined global functions or variables:
  Accessibility_ratio CSEMI_TRI Coverage GROUP Index Label
  LogIntensities NSEMI_TRI PeptideSequence Protein Protein.y sig
  uniprot_iso
* checking Rd files ... OK
* checking Rd metadata ... OK
* checking Rd cross-references ... OK
* checking for missing documentation entries ... OK
* checking for code/documentation mismatches ... OK
* checking Rd \usage sections ... OK
* checking Rd contents ... OK
* checking for unstated dependencies in examples ... OK
* checking contents of 'data' directory ... OK
* checking data for non-ASCII characters ... OK
* checking LazyData ... OK
* checking data for ASCII and uncompressed saves ... OK
* checking line endings in C/C++/Fortran sources/headers ... OK
* checking compiled code ... NOTE
Note: information on .o files for x64 is not available
File 'F:/biocbuild/bbs-3.15-bioc/R/library/MSstatsLiP/libs/x64/MSstatsLiP.dll':
  Found 'abort', possibly from 'abort' (C), 'runtime' (Fortran)
  Found 'exit', possibly from 'exit' (C), 'stop' (Fortran)

Compiled code should not call entry points which might terminate R nor
write to stdout/stderr instead of to the console, nor use Fortran I/O
nor system RNGs. The detected symbols are linked into the code but
might come from libraries and not actually be called.

See 'Writing portable packages' in the 'Writing R Extensions' manual.
* checking files in 'vignettes' ... NOTE
The following files look like leftovers/mistakes:
  'MSstats_groupComparison_log_2022_04_22_12_09_48.log'
Please remove them from your package.
* checking examples ... OK
Examples with CPU (user + system) or elapsed time > 5s
                          user system elapsed
dataProcessPlotsLiP      22.30   0.16   22.61
StructuralBarcodePlotLiP  6.45   0.13    6.58
* checking for unstated dependencies in 'tests' ... OK
* checking tests ...
  Running 'tinytest.R'
 OK
* checking for unstated dependencies in vignettes ... OK
* checking package vignettes in 'inst/doc' ... OK
* checking running R code from vignettes ... SKIPPED
* checking re-building of vignette outputs ... SKIPPED
* checking PDF version of manual ... OK
* DONE

Status: 3 NOTEs
See
  'F:/biocbuild/bbs-3.15-bioc/meat/MSstatsLiP.Rcheck/00check.log'
for details.



Installation output

MSstatsLiP.Rcheck/00install.out

##############################################################################
##############################################################################
###
### Running command:
###
###   F:\biocbuild\bbs-3.15-bioc\R\bin\R.exe CMD INSTALL MSstatsLiP
###
##############################################################################
##############################################################################


* installing to library 'F:/biocbuild/bbs-3.15-bioc/R/library'
* installing *source* package 'MSstatsLiP' ...
** using staged installation
** libs
g++ -std=gnu++11  -I"F:/biocbuild/bbs-3.15-bioc/R/include" -DNDEBUG  -I'F:/biocbuild/bbs-3.15-bioc/R/library/Rcpp/include'   -I"C:/rtools42/x86_64-w64-mingw32.static.posix/include"     -O2 -Wall  -mfpmath=sse -msse2 -mstackrealign  -c RcppExports.cpp -o RcppExports.o
g++ -std=gnu++11  -I"F:/biocbuild/bbs-3.15-bioc/R/include" -DNDEBUG  -I'F:/biocbuild/bbs-3.15-bioc/R/library/Rcpp/include'   -I"C:/rtools42/x86_64-w64-mingw32.static.posix/include"     -O2 -Wall  -mfpmath=sse -msse2 -mstackrealign  -c model_adjustment.cpp -o model_adjustment.o
g++ -std=gnu++11 -shared -s -static-libgcc -o MSstatsLiP.dll tmp.def RcppExports.o model_adjustment.o -LC:/rtools42/x86_64-w64-mingw32.static.posix/lib/x64 -LC:/rtools42/x86_64-w64-mingw32.static.posix/lib -LF:/biocbuild/bbs-3.15-bioc/R/bin/x64 -lR
installing to F:/biocbuild/bbs-3.15-bioc/R/library/00LOCK-MSstatsLiP/00new/MSstatsLiP/libs/x64
** R
** data
*** moving datasets to lazyload DB
** inst
** byte-compile and prepare package for lazy loading
** help
*** installing help indices
** building package indices
** installing vignettes
** testing if installed package can be loaded from temporary location
** testing if installed package can be loaded from final location
** testing if installed package keeps a record of temporary installation path
* DONE (MSstatsLiP)

Tests output

MSstatsLiP.Rcheck/tests/tinytest.Rout


R version 4.2.0 (2022-04-22 ucrt) -- "Vigorous Calisthenics"
Copyright (C) 2022 The R Foundation for Statistical Computing
Platform: x86_64-w64-mingw32/x64 (64-bit)

R is free software and comes with ABSOLUTELY NO WARRANTY.
You are welcome to redistribute it under certain conditions.
Type 'license()' or 'licence()' for distribution details.

R is a collaborative project with many contributors.
Type 'contributors()' for more information and
'citation()' on how to cite R or R packages in publications.

Type 'demo()' for some demos, 'help()' for on-line help, or
'help.start()' for an HTML browser interface to help.
Type 'q()' to quit R.

> 
> if ( requireNamespace("tinytest", quietly=TRUE) ){
+   tinytest::test_package("MSstatsLiP")
+ }

test_SkylinetoMSstatsLiPFormat.R    0 tests    
test_SkylinetoMSstatsLiPFormat.R    1 tests OK 
test_SkylinetoMSstatsLiPFormat.R    2 tests OK INFO  [2022-05-16 01:41:40] ** Raw data from Skyline imported successfully.
INFO  [2022-05-16 01:41:40] ** Raw data from Skyline cleaned successfully.

test_SkylinetoMSstatsLiPFormat.R    3 tests OK INFO  [2022-05-16 01:41:40] ** Raw data from Skyline imported successfully.
INFO  [2022-05-16 01:41:40] ** Raw data from Skyline cleaned successfully.
INFO  [2022-05-16 01:41:40] ** Using annotation extracted from quantification data.

test_SkylinetoMSstatsLiPFormat.R    4 tests OK INFO  [2022-05-16 01:41:40] ** Raw data from Skyline imported successfully.
INFO  [2022-05-16 01:41:40] ** Raw data from Skyline cleaned successfully.
INFO  [2022-05-16 01:41:40] ** Using annotation extracted from quantification data.

test_SkylinetoMSstatsLiPFormat.R    5 tests OK INFO  [2022-05-16 01:41:40] ** Raw data from Skyline imported successfully.
INFO  [2022-05-16 01:41:40] ** Raw data from Skyline cleaned successfully.
INFO  [2022-05-16 01:41:40] ** Using annotation extracted from quantification data.

test_SkylinetoMSstatsLiPFormat.R    6 tests OK INFO  [2022-05-16 01:41:40] ** Raw data from Skyline imported successfully.
INFO  [2022-05-16 01:41:40] ** Raw data from Skyline cleaned successfully.
INFO  [2022-05-16 01:41:40] ** Using annotation extracted from quantification data.

test_SkylinetoMSstatsLiPFormat.R    7 tests OK INFO  [2022-05-16 01:41:40] ** Raw data from Skyline imported successfully.
INFO  [2022-05-16 01:41:40] ** Raw data from Skyline cleaned successfully.
INFO  [2022-05-16 01:41:40] ** Using annotation extracted from quantification data.

test_SkylinetoMSstatsLiPFormat.R    8 tests OK INFO  [2022-05-16 01:41:40] ** Raw data from Skyline imported successfully.
INFO  [2022-05-16 01:41:41] ** Raw data from Skyline cleaned successfully.
INFO  [2022-05-16 01:41:41] ** Using annotation extracted from quantification data.

test_SkylinetoMSstatsLiPFormat.R    9 tests OK INFO  [2022-05-16 01:41:41] ** Raw data from Skyline imported successfully.
INFO  [2022-05-16 01:41:41] ** Raw data from Skyline cleaned successfully.
INFO  [2022-05-16 01:41:41] ** Using annotation extracted from quantification data.

test_SkylinetoMSstatsLiPFormat.R   10 tests OK 0.9s

test_SpectronauttoMSstatsLiPFormat.R    0 tests    
test_SpectronauttoMSstatsLiPFormat.R    0 tests    
test_SpectronauttoMSstatsLiPFormat.R    1 tests OK 
test_SpectronauttoMSstatsLiPFormat.R    2 tests OK INFO  [2022-05-16 01:41:41] ** Raw data from Spectronaut imported successfully.
INFO  [2022-05-16 01:41:41] ** Raw data from Spectronaut cleaned successfully.
INFO  [2022-05-16 01:41:41] ** Using annotation extracted from quantification data.
INFO  [2022-05-16 01:41:41] ** Run labels were standardized to remove symbols such as '.' or '%'.
INFO  [2022-05-16 01:41:41] ** The following options are used:
  - Features will be defined by the columns: PeptideSequence, PrecursorCharge, FragmentIon, ProductCharge
  - Shared peptides will be removed.
  - Proteins with single feature will not be removed.
  - Features with less than 3 measurements across runs will be removed.
WARN  [2022-05-16 01:41:41] ** PGQvalue not found in input columns.
INFO  [2022-05-16 01:41:41] ** Intensities with values not smaller than 0.01 in EGQvalue are replaced with 0
INFO  [2022-05-16 01:41:41] ** Features with all missing measurements across runs are removed.
INFO  [2022-05-16 01:41:41] ** Shared peptides are removed.
INFO  [2022-05-16 01:41:41] ** Multiple measurements in a feature and a run are summarized by summaryforMultipleRows: max
INFO  [2022-05-16 01:41:41] ** Features with one or two measurements across runs are removed.
INFO  [2022-05-16 01:41:41] ** Run annotation merged with quantification data.
INFO  [2022-05-16 01:41:41] ** Features with one or two measurements across runs are removed.
INFO  [2022-05-16 01:41:41] ** Fractionation handled.
INFO  [2022-05-16 01:41:41] ** Updated quantification data to make balanced design. Missing values are marked by NA
INFO  [2022-05-16 01:41:41] ** Finished preprocessing. The dataset is ready to be processed by the dataProcess function.

test_SpectronauttoMSstatsLiPFormat.R    3 tests OK 
test_SpectronauttoMSstatsLiPFormat.R    4 tests OK 
test_SpectronauttoMSstatsLiPFormat.R    5 tests OK 
test_SpectronauttoMSstatsLiPFormat.R    6 tests OK INFO  [2022-05-16 01:41:41] ** Raw data from Spectronaut imported successfully.
INFO  [2022-05-16 01:41:41] ** Raw data from Spectronaut cleaned successfully.
INFO  [2022-05-16 01:41:41] ** Using annotation extracted from quantification data.
INFO  [2022-05-16 01:41:41] ** Run labels were standardized to remove symbols such as '.' or '%'.

test_SpectronauttoMSstatsLiPFormat.R    7 tests OK 
test_SpectronauttoMSstatsLiPFormat.R    8 tests OK 
test_SpectronauttoMSstatsLiPFormat.R    9 tests OK 0.4s

test_dataProcessPlotsLiP.R....    0 tests    
test_dataProcessPlotsLiP.R....    1 tests OK 
test_dataProcessPlotsLiP.R....    2 tests OK 
test_dataProcessPlotsLiP.R....    3 tests OK 
test_dataProcessPlotsLiP.R....    4 tests OK 
test_dataProcessPlotsLiP.R....    5 tests OK 
test_dataProcessPlotsLiP.R....    6 tests OK 
test_dataProcessPlotsLiP.R....    7 tests OK 
test_dataProcessPlotsLiP.R....    8 tests OK 
test_dataProcessPlotsLiP.R....    9 tests OK 
test_dataProcessPlotsLiP.R....   10 tests OK Drew the Profile plot for P14164_ILQNDLK (1 of 14)
Drew the Profile plot for P17891_ALQLINQDDADIIGGRDR (2 of 14)
Drew the Profile plot for P17891_DDDTDFLK (3 of 14)
Drew the Profile plot for P36112_SNDLLSGLTGSSQTR (4 of 14)
Drew the Profile plot for P38805_LGQTVGR (5 of 14)
Drew the Profile plot for P46959_DIIGKPYGSQIAIR (6 of 14)
Drew the Profile plot for P52893_SSSQGVEGIRK (7 of 14)
Drew the Profile plot for P52911_TWITEDDFEQIK (8 of 14)
Drew the Profile plot for P53235_ERQAVGDKLEDTQVLK (9 of 14)
Drew the Profile plot for P53858_FLDNHEVDSIVSLER (10 of 14)
Drew the Profile plot for Q02908_ISVISGVGVR (11 of 14)
Drew the Profile plot for Q12248_EFQSVSDLWK (12 of 14)
Drew the Profile plot for P16622_SHLQSNQLYSNQLPLDFALGK (13 of 14)
Drew the Profile plot for P24004_FIGASEQNIR (14 of 14)
Drew the Profile plot for  P14164_ILQNDLK ( 1  of  14 )
Drew the Profile plot for  P17891_ALQLINQDDADIIGGRDR ( 2  of  14 )
Drew the Profile plot for  P17891_DDDTDFLK ( 3  of  14 )
Drew the Profile plot for  P36112_SNDLLSGLTGSSQTR ( 4  of  14 )
Drew the Profile plot for  P38805_LGQTVGR ( 5  of  14 )
Drew the Profile plot for  P46959_DIIGKPYGSQIAIR ( 6  of  14 )
Drew the Profile plot for  P52893_SSSQGVEGIRK ( 7  of  14 )
Drew the Profile plot for  P52911_TWITEDDFEQIK ( 8  of  14 )
Drew the Profile plot for  P53235_ERQAVGDKLEDTQVLK ( 9  of  14 )
Drew the Profile plot for  P53858_FLDNHEVDSIVSLER ( 10  of  14 )
Drew the Profile plot for  Q02908_ISVISGVGVR ( 11  of  14 )
Drew the Profile plot for  Q12248_EFQSVSDLWK ( 12  of  14 )
Drew the Profile plot for  P16622_SHLQSNQLYSNQLPLDFALGK ( 13  of  14 )
Drew the Profile plot for  P24004_FIGASEQNIR ( 14  of  14 )

test_dataProcessPlotsLiP.R....   11 tests OK Drew the Quality Contol plot(boxplot) for all ptms/proteins.
Drew the Quality Contol plot(boxplot) for P14164_ILQNDLK (1 of 14)
Drew the Quality Contol plot(boxplot) for P17891_ALQLINQDDADIIGGRDR (2 of 14)
Drew the Quality Contol plot(boxplot) for P17891_DDDTDFLK (3 of 14)
Drew the Quality Contol plot(boxplot) for P36112_SNDLLSGLTGSSQTR (4 of 14)
Drew the Quality Contol plot(boxplot) for P38805_LGQTVGR (5 of 14)
Drew the Quality Contol plot(boxplot) for P46959_DIIGKPYGSQIAIR (6 of 14)
Drew the Quality Contol plot(boxplot) for P52893_SSSQGVEGIRK (7 of 14)
Drew the Quality Contol plot(boxplot) for P52911_TWITEDDFEQIK (8 of 14)
Drew the Quality Contol plot(boxplot) for P53235_ERQAVGDKLEDTQVLK (9 of 14)
Drew the Quality Contol plot(boxplot) for P53858_FLDNHEVDSIVSLER (10 of 14)
Drew the Quality Contol plot(boxplot) for Q02908_ISVISGVGVR (11 of 14)
Drew the Quality Contol plot(boxplot) for Q12248_EFQSVSDLWK (12 of 14)
Drew the Quality Contol plot(boxplot) for P16622_SHLQSNQLYSNQLPLDFALGK (13 of 14)
Drew the Quality Contol plot(boxplot) for P24004_FIGASEQNIR (14 of 14)

test_dataProcessPlotsLiP.R....   12 tests OK 24.3s

test_dataSummarizationLiP.R...    0 tests    
test_dataSummarizationLiP.R...    0 tests    
test_dataSummarizationLiP.R...    1 tests OK 
test_dataSummarizationLiP.R...    2 tests OK 
test_dataSummarizationLiP.R...    3 tests OK 
test_dataSummarizationLiP.R...    4 tests OK 
test_dataSummarizationLiP.R...    5 tests OK 
test_dataSummarizationLiP.R...    6 tests OK 
test_dataSummarizationLiP.R...    7 tests OK 
test_dataSummarizationLiP.R...    8 tests OK 
test_dataSummarizationLiP.R...    9 tests OK 
test_dataSummarizationLiP.R...   10 tests OK 
test_dataSummarizationLiP.R...   11 tests OK 
test_dataSummarizationLiP.R...   12 tests OK 
test_dataSummarizationLiP.R...   13 tests OK 
test_dataSummarizationLiP.R...   14 tests OK 
test_dataSummarizationLiP.R...   15 tests OK 
test_dataSummarizationLiP.R...   16 tests OK 
test_dataSummarizationLiP.R...   17 tests OK 
test_dataSummarizationLiP.R...   18 tests OK 
test_dataSummarizationLiP.R...   19 tests OK 
test_dataSummarizationLiP.R...   20 tests OK 
test_dataSummarizationLiP.R...   21 tests OK 
test_dataSummarizationLiP.R...   22 tests OK 
test_dataSummarizationLiP.R...   23 tests OK 
test_dataSummarizationLiP.R...   24 tests OK 
test_dataSummarizationLiP.R...   25 tests OK 
test_dataSummarizationLiP.R...   26 tests OK 
test_dataSummarizationLiP.R...   27 tests OK 
test_dataSummarizationLiP.R...   28 tests OK Starting PTM summarization...

test_dataSummarizationLiP.R...   29 tests OK 0.2s

test_groupComparisonLiP.R.....    0 tests    
test_groupComparisonLiP.R.....    0 tests    
test_groupComparisonLiP.R.....    1 tests OK 
test_groupComparisonLiP.R.....    2 tests OK Starting PTM modeling...

test_groupComparisonLiP.R.....    3 tests OK Starting PTM modeling...
INFO  [2022-05-16 01:42:06]  == Start to test and get inference in whole plot ...

  |                                                                            
  |                                                                      |   0%
  |                                                                            
  |=====                                                                 |   7%
  |                                                                            
  |==========                                                            |  14%
  |                                                                            
  |===============                                                       |  21%
  |                                                                            
  |====================                                                  |  29%
  |                                                                            
  |=========================                                             |  36%
  |                                                                            
  |==============================                                        |  43%
  |                                                                            
  |===================================                                   |  50%
  |                                                                            
  |========================================                              |  57%
  |                                                                            
  |=============================================                         |  64%
  |                                                                            
  |==================================================                    |  71%
  |                                                                            
  |=======================================================               |  79%
  |                                                                            
  |============================================================          |  86%
  |                                                                            
  |=================================================================     |  93%
  |                                                                            
  |======================================================================| 100%
INFO  [2022-05-16 01:42:07]  == Comparisons for all proteins are done.
Starting Protein modeling...
INFO  [2022-05-16 01:42:07]  == Start to test and get inference in whole plot ...

  |                                                                            
  |                                                                      |   0%
  |                                                                            
  |=====                                                                 |   8%
  |                                                                            
  |===========                                                           |  15%
  |                                                                            
  |================                                                      |  23%
  |                                                                            
  |======================                                                |  31%
  |                                                                            
  |===========================                                           |  38%
  |                                                                            
  |================================                                      |  46%
  |                                                                            
  |======================================                                |  54%
  |                                                                            
  |===========================================                           |  62%
  |                                                                            
  |================================================                      |  69%
  |                                                                            
  |======================================================                |  77%
  |                                                                            
  |===========================================================           |  85%
  |                                                                            
  |=================================================================     |  92%
  |                                                                            
  |======================================================================| 100%
INFO  [2022-05-16 01:42:07]  == Comparisons for all proteins are done.
Starting adjustment...

test_groupComparisonLiP.R.....    3 tests OK 
test_groupComparisonLiP.R.....    4 tests OK 
test_groupComparisonLiP.R.....    5 tests OK 
test_groupComparisonLiP.R.....    6 tests OK 
test_groupComparisonLiP.R.....    7 tests OK 
test_groupComparisonLiP.R.....    8 tests OK 
test_groupComparisonLiP.R.....    9 tests OK 
test_groupComparisonLiP.R.....   10 tests OK 1.2s

test_groupComparisonPlotsLiP.R    0 tests    
test_groupComparisonPlotsLiP.R    1 tests OK 
test_groupComparisonPlotsLiP.R    2 tests OK 
test_groupComparisonPlotsLiP.R    3 tests OK 
test_groupComparisonPlotsLiP.R    4 tests OK 
test_groupComparisonPlotsLiP.R    5 tests OK 
test_groupComparisonPlotsLiP.R    6 tests OK 
test_groupComparisonPlotsLiP.R    7 tests OK 
test_groupComparisonPlotsLiP.R    8 tests OK 
test_groupComparisonPlotsLiP.R    9 tests OK 
test_groupComparisonPlotsLiP.R   10 tests OK 
test_groupComparisonPlotsLiP.R   11 tests OK 
test_groupComparisonPlotsLiP.R   12 tests OK 
test_groupComparisonPlotsLiP.R   13 tests OK 
test_groupComparisonPlotsLiP.R   14 tests OK 
test_groupComparisonPlotsLiP.R   15 tests OK 
test_groupComparisonPlotsLiP.R   16 tests OK 3.7s

test_trypticHistogramLiP.R....    0 tests    
test_trypticHistogramLiP.R....    0 tests    
test_trypticHistogramLiP.R....    1 tests OK 
test_trypticHistogramLiP.R....    2 tests OK 
test_trypticHistogramLiP.R....    3 tests OK 
test_trypticHistogramLiP.R....    4 tests OK 
test_trypticHistogramLiP.R....    5 tests OK 
test_trypticHistogramLiP.R....    6 tests OK 
test_trypticHistogramLiP.R....    7 tests OK 
test_trypticHistogramLiP.R....    8 tests OK 
test_trypticHistogramLiP.R....    9 tests OK 
test_trypticHistogramLiP.R....   10 tests OK 
test_trypticHistogramLiP.R....   11 tests OK 
test_trypticHistogramLiP.R....   12 tests OK 
test_trypticHistogramLiP.R....   13 tests OK 
test_trypticHistogramLiP.R....   14 tests OK 
test_trypticHistogramLiP.R....   15 tests OK 
test_trypticHistogramLiP.R....   16 tests OK 
test_trypticHistogramLiP.R....   17 tests OK 
test_trypticHistogramLiP.R....   18 tests OK 
test_trypticHistogramLiP.R....   19 tests OK 
test_trypticHistogramLiP.R....   20 tests OK 
test_trypticHistogramLiP.R....   21 tests OK 
test_trypticHistogramLiP.R....   22 tests OK 
test_trypticHistogramLiP.R....   23 tests OK 
test_trypticHistogramLiP.R....   24 tests OK 
test_trypticHistogramLiP.R....   25 tests OK 12.3s
All ok, 111 results (42.9s)
Warning messages:
1: In max(datafeature.ptm$ABUNDANCE, na.rm = TRUE) :
  no non-missing arguments to max; returning -Inf
2: In as.data.table.list(x, keep.rownames = keep.rownames, check.names = check.names,  :
  Item 1 has 0 rows but longest item has 1; filled with NA
3: In as.data.table.list(x, keep.rownames = keep.rownames, check.names = check.names,  :
  Item 3 has 0 rows but longest item has 1; filled with NA
4: In as.data.table.list(x, keep.rownames = keep.rownames, check.names = check.names,  :
  Item 4 has 0 rows but longest item has 1; filled with NA
5: In as.data.table.list(x, keep.rownames = keep.rownames, check.names = check.names,  :
  Item 1 has 0 rows but longest item has 1; filled with NA
6: In as.data.table.list(x, keep.rownames = keep.rownames, check.names = check.names,  :
  Item 2 has 0 rows but longest item has 1; filled with NA
7: In as.data.table.list(x, keep.rownames = keep.rownames, check.names = check.names,  :
  Item 3 has 0 rows but longest item has 1; filled with NA
8: In as.data.table.list(x, keep.rownames = keep.rownames, check.names = check.names,  :
  Item 1 has 0 rows but longest item has 1; filled with NA
9: In as.data.table.list(x, keep.rownames = keep.rownames, check.names = check.names,  :
  Item 2 has 0 rows but longest item has 1; filled with NA
10: In as.data.table.list(x, keep.rownames = keep.rownames, check.names = check.names,  :
  Item 3 has 0 rows but longest item has 1; filled with NA
> 
> proc.time()
   user  system elapsed 
  48.54    1.03   49.62 

Example timings

MSstatsLiP.Rcheck/MSstatsLiP-Ex.timings

nameusersystemelapsed
LiPRawData0.020.000.01
MSstatsLiP_Summarized0.010.000.02
MSstatsLiP_data0.020.000.02
MSstatsLiP_model000
PCAPlotLiP1.550.051.59
ResistanceBarcodePlotLiP000
SkylineTest0.010.000.02
SkylinetoMSstatsLiPFormat000
SpectronauttoMSstatsLiPFormat0.800.010.81
StructuralBarcodePlotLiP6.450.136.58
TrPRawData000
annotSite000
calculateProteolyticResistance0.020.000.01
calculateTrypticity0.010.000.02
correlationPlotLiP0.420.000.42
dataProcessPlotsLiP22.30 0.1622.61
dataSummarizationLiP0.500.030.54
groupComparisonLiP0.370.010.39
groupComparisonPlotsLiP1.420.031.45
locateMod000
locatePTM0.080.020.09
raw_lip0.050.000.05
raw_prot0.050.000.05
tidyFasta0.010.000.01
trypticHistogramLiP0.280.000.28