Back to Multiple platform build/check report for BioC 3.15 |
|
This page was generated on 2022-03-18 11:07:18 -0400 (Fri, 18 Mar 2022).
Hostname | OS | Arch (*) | R version | Installed pkgs |
---|---|---|---|---|
nebbiolo1 | Linux (Ubuntu 20.04.4 LTS) | x86_64 | R Under development (unstable) (2022-02-17 r81757) -- "Unsuffered Consequences" | 4334 |
riesling1 | Windows Server 2019 Standard | x64 | R Under development (unstable) (2021-11-21 r81221) -- "Unsuffered Consequences" | 4097 |
palomino3 | Windows Server 2022 Datacenter | x64 | R Under development (unstable) (2022-02-17 r81757 ucrt) -- "Unsuffered Consequences" | 4083 |
merida1 | macOS 10.14.6 Mojave | x86_64 | R Under development (unstable) (2022-03-02 r81842) -- "Unsuffered Consequences" | 4134 |
Click on any hostname to see more info about the system (e.g. compilers) (*) as reported by 'uname -p', except on Windows and Mac OS X |
To the developers/maintainers of the CytoTree package: - Please allow up to 24 hours (and sometimes 48 hours) for your latest push to git@git.bioconductor.org:packages/CytoTree.git to reflect on this report. See How and When does the builder pull? When will my changes propagate? here for more information. - Make sure to use the following settings in order to reproduce any error or warning you see on this page. |
Package 450/2090 | Hostname | OS / Arch | INSTALL | BUILD | CHECK | BUILD BIN | ||||||||
CytoTree 1.5.0 (landing page) Yuting Dai
| nebbiolo1 | Linux (Ubuntu 20.04.4 LTS) / x86_64 | OK | OK | OK | |||||||||
riesling1 | Windows Server 2019 Standard / x64 | OK | OK | OK | OK | |||||||||
palomino3 | Windows Server 2022 Datacenter / x64 | OK | OK | OK | OK | |||||||||
merida1 | macOS 10.14.6 Mojave / x86_64 | OK | OK | OK | OK | |||||||||
Package: CytoTree |
Version: 1.5.0 |
Command: D:\biocbuild\bbs-3.15-bioc\R\bin\R.exe CMD INSTALL CytoTree |
StartedAt: 2022-03-17 16:17:25 -0400 (Thu, 17 Mar 2022) |
EndedAt: 2022-03-17 16:18:28 -0400 (Thu, 17 Mar 2022) |
EllapsedTime: 63.2 seconds |
RetCode: 0 |
Status: OK |
############################################################################## ############################################################################## ### ### Running command: ### ### D:\biocbuild\bbs-3.15-bioc\R\bin\R.exe CMD INSTALL CytoTree ### ############################################################################## ############################################################################## * installing to library 'D:/biocbuild/bbs-3.15-bioc/R/library' * installing *source* package 'CytoTree' ... ** using staged installation ** libs "C:/rtools40/mingw64/bin/"g++ -std=gnu++11 -I"D:/biocbuild/bbs-3.15-bioc/R/include" -DNDEBUG -I'D:/biocbuild/bbs-3.15-bioc/R/library/Rcpp/include' -I"C:/extsoft/include" -O2 -Wall -mfpmath=sse -msse2 -mstackrealign -fno-reorder-blocks-and-partition -c RcppExports.cpp -o RcppExports.o "C:/rtools40/mingw64/bin/"g++ -std=gnu++11 -I"D:/biocbuild/bbs-3.15-bioc/R/include" -DNDEBUG -I'D:/biocbuild/bbs-3.15-bioc/R/library/Rcpp/include' -I"C:/extsoft/include" -O2 -Wall -mfpmath=sse -msse2 -mstackrealign -fno-reorder-blocks-and-partition -c jaccard_coeff.cpp -o jaccard_coeff.o C:/rtools40/mingw64/bin/g++ -std=gnu++11 -shared -s -static-libgcc -o CytoTree.dll tmp.def RcppExports.o jaccard_coeff.o -LC:/extsoft/lib/x64 -LC:/extsoft/lib -LD:/biocbuild/bbs-3.15-bioc/R/bin/x64 -lR installing to D:/biocbuild/bbs-3.15-bioc/R/library/00LOCK-CytoTree/00new/CytoTree/libs/x64 ** R ** inst ** byte-compile and prepare package for lazy loading No methods found in package 'flowCore' for requests: 'action', 'assign', 'Data', 'gate', 'tree' when loading 'flowUtils' ** help *** installing help indices converting help for package 'CytoTree' finding HTML links ... done CYT-class html CytoTree-package html Rphenograph html buildTree html constraintMatrix html correctBatchCYT html createCYT html defLeafCells html defRootCells html fetchCell html fetchClustMeta html fetchPlotMeta html find_neighbors html gatingMatrix html plot2D html plot3D html plotBranchHeatmap html plotCluster html plotClusterHeatmap html plotHeatmap html plotMarkerDensity html plotPieCluster html plotPieTree html plotPseudotimeDensity html plotPseudotimeTraj html plotTrajHeatmap html plotTree html plotViolin html processingCluster html runClara html runCluster html runDiff html runDiffusionMap html runExprsExtract html runExprsMerge html runFastPCA html runHclust html runKNN html runKmeans html runMclust html runPhenograph html runPseudotime html runSOM html finding level-2 HTML links ... done runTSNE html runUMAP html runWalk html show-CYT-method html subsetCYT html updateClustMeta html updatePlotMeta html ** building package indices ** installing vignettes ** testing if installed package can be loaded from temporary location No methods found in package 'flowCore' for requests: 'action', 'assign', 'Data', 'gate', 'tree' when loading 'flowUtils' ** testing if installed package can be loaded from final location No methods found in package 'flowCore' for requests: 'action', 'assign', 'Data', 'gate', 'tree' when loading 'flowUtils' ** testing if installed package keeps a record of temporary installation path * DONE (CytoTree) Making 'packages.html' ... done