Index of /checkResults/3.14/data-experiment-LATEST/geneLenDataBase/raw-results/nebbiolo2

[ICO]NameLast modifiedSizeDescription

[DIR]Parent Directory  -  
[TXT]buildsrc-out.txt02-Dec-2021 08:35 829  
[   ]buildsrc-summary.dcf02-Dec-2021 08:35 441  
[TXT]checksrc-out.txt02-Dec-2021 08:35 39K 
[   ]checksrc-summary.dcf02-Dec-2021 08:35 462  
[TXT]install-out.txt02-Dec-2021 08:35 947  
[   ]install-summary.dcf02-Dec-2021 08:35 275