Back to Multiple platform build/check report for BioC 3.14
ABCDEFGHIJKLMNOPQR[S]TUVWXYZ

This page was generated on 2022-01-14 13:07:16 -0500 (Fri, 14 Jan 2022).

HostnameOSArch (*)R versionInstalled pkgs
nebbiolo2Linux (Ubuntu 20.04.4 LTS)x86_644.1.2 (2021-11-01) -- "Bird Hippie" 4327
tokay2Windows Server 2012 R2 Standardx644.1.2 (2021-11-01) -- "Bird Hippie" 4076
machv2macOS 10.14.6 Mojavex86_644.1.2 (2021-11-01) -- "Bird Hippie" 4137
Click on any hostname to see more info about the system (e.g. compilers)      (*) as reported by 'uname -p', except on Windows and Mac OS X

BUILD BIN results for synapter on tokay2


To the developers/maintainers of the synapter package:
- Please allow up to 24 hours (and sometimes 48 hours) for your latest push to git@git.bioconductor.org:packages/synapter.git to
reflect on this report. See How and When does the builder pull? When will my changes propagate? here for more information.
- Make sure to use the following settings in order to reproduce any error or warning you see on this page.

raw results

Package 1919/2083HostnameOS / ArchINSTALLBUILDCHECKBUILD BIN
synapter 2.18.0  (landing page)
Laurent Gatto
Snapshot Date: 2022-01-13 01:55:04 -0500 (Thu, 13 Jan 2022)
git_url: https://git.bioconductor.org/packages/synapter
git_branch: RELEASE_3_14
git_last_commit: 1ee8f37
git_last_commit_date: 2021-10-26 12:03:45 -0500 (Tue, 26 Oct 2021)
nebbiolo2Linux (Ubuntu 20.04.4 LTS) / x86_64  OK    ERROR  skipped
tokay2Windows Server 2012 R2 Standard / x64  OK    OK    OK    OK  UNNEEDED, same version is already published
machv2macOS 10.14.6 Mojave / x86_64  OK    OK    OK    OK  UNNEEDED, same version is already published

Summary

Package: synapter
Version: 2.18.0
Command: rm -rf synapter.buildbin-libdir && mkdir synapter.buildbin-libdir && C:\Users\biocbuild\bbs-3.14-bioc\R\bin\R.exe CMD INSTALL --merge-multiarch --build --library=synapter.buildbin-libdir synapter_2.18.0.tar.gz
StartedAt: 2022-01-14 06:43:59 -0500 (Fri, 14 Jan 2022)
EndedAt: 2022-01-14 06:45:47 -0500 (Fri, 14 Jan 2022)
EllapsedTime: 108.2 seconds
RetCode: 0
Status:   OK  
PackageFile: synapter_2.18.0.zip
PackageFileSize: 3.418 MiB

Command output

##############################################################################
##############################################################################
###
### Running command:
###
###   rm -rf synapter.buildbin-libdir && mkdir synapter.buildbin-libdir && C:\Users\biocbuild\bbs-3.14-bioc\R\bin\R.exe CMD INSTALL --merge-multiarch --build --library=synapter.buildbin-libdir synapter_2.18.0.tar.gz
###
##############################################################################
##############################################################################



install for i386

* installing *source* package 'synapter' ...
** using staged installation
** R
** data
** inst
** byte-compile and prepare package for lazy loading
** help
*** installing help indices
  converting help for package 'synapter'
    finding HTML links ... done
    MasterFdrResults-class                  html  
    MasterPeptides-class                    html  
    Synapter                                html  
    finding level-2 HTML links ... done

    createUniquePeptideDbRds                html  
    defunct                                 html  
    estimateMasterFdr                       html  
    inspectPeptideScores                    html  
    makeMaster                              html  
    plotCrossMatching                       html  
    requantify                              html  
    rescaleForTop3                          html  
    synapter-package                        html  
REDIRECT:topic	 Previous alias or file overwritten by alias: C:/Users/biocbuild/bbs-3.14-bioc/meat/synapter.buildbin-libdir/00LOCK-synapter/00new/synapter/help/synapter.html
    synapterGuide                           html  
    synapterPlgsAgreement                   html  
    synapterTinyData                        html  
    synergise                               html  
    synergise2                              html  
** building package indices
** installing vignettes
** testing if installed package can be loaded from temporary location
** testing if installed package can be loaded from final location
** testing if installed package keeps a record of temporary installation path

install for x64

* installing *source* package 'synapter' ...
** testing if installed package can be loaded
* MD5 sums
packaged installation of 'synapter' as synapter_2.18.0.zip
* DONE (synapter)