Back to Multiple platform build/check report for BioC 3.14
ABCDEFGHIJKLMNOPQR[S]TUVWXYZ

This page was generated on 2022-01-14 13:07:14 -0500 (Fri, 14 Jan 2022).

HostnameOSArch (*)R versionInstalled pkgs
nebbiolo2Linux (Ubuntu 20.04.4 LTS)x86_644.1.2 (2021-11-01) -- "Bird Hippie" 4327
tokay2Windows Server 2012 R2 Standardx644.1.2 (2021-11-01) -- "Bird Hippie" 4076
machv2macOS 10.14.6 Mojavex86_644.1.2 (2021-11-01) -- "Bird Hippie" 4137
Click on any hostname to see more info about the system (e.g. compilers)      (*) as reported by 'uname -p', except on Windows and Mac OS X

CHECK results for splineTimeR on tokay2


To the developers/maintainers of the splineTimeR package:
- Please allow up to 24 hours (and sometimes 48 hours) for your latest push to git@git.bioconductor.org:packages/splineTimeR.git to
reflect on this report. See How and When does the builder pull? When will my changes propagate? here for more information.
- Make sure to use the following settings in order to reproduce any error or warning you see on this page.

raw results

Package 1864/2083HostnameOS / ArchINSTALLBUILDCHECKBUILD BIN
splineTimeR 1.22.0  (landing page)
Herbert Braselmann , Martin Selmansberger
Snapshot Date: 2022-01-13 01:55:04 -0500 (Thu, 13 Jan 2022)
git_url: https://git.bioconductor.org/packages/splineTimeR
git_branch: RELEASE_3_14
git_last_commit: 5bd9ea9
git_last_commit_date: 2021-10-26 12:24:25 -0500 (Tue, 26 Oct 2021)
nebbiolo2Linux (Ubuntu 20.04.4 LTS) / x86_64  OK    OK    OK  UNNEEDED, same version is already published
tokay2Windows Server 2012 R2 Standard / x64  OK    OK    OK    OK  UNNEEDED, same version is already published
machv2macOS 10.14.6 Mojave / x86_64  OK    OK    OK    OK  UNNEEDED, same version is already published

Summary

Package: splineTimeR
Version: 1.22.0
Command: C:\Users\biocbuild\bbs-3.14-bioc\R\bin\R.exe CMD check --force-multiarch --install=check:splineTimeR.install-out.txt --library=C:\Users\biocbuild\bbs-3.14-bioc\R\library --no-vignettes --timings splineTimeR_1.22.0.tar.gz
StartedAt: 2022-01-14 02:53:10 -0500 (Fri, 14 Jan 2022)
EndedAt: 2022-01-14 02:58:06 -0500 (Fri, 14 Jan 2022)
EllapsedTime: 295.9 seconds
RetCode: 0
Status:   OK  
CheckDir: splineTimeR.Rcheck
Warnings: 0

Command output

##############################################################################
##############################################################################
###
### Running command:
###
###   C:\Users\biocbuild\bbs-3.14-bioc\R\bin\R.exe CMD check --force-multiarch --install=check:splineTimeR.install-out.txt --library=C:\Users\biocbuild\bbs-3.14-bioc\R\library --no-vignettes --timings splineTimeR_1.22.0.tar.gz
###
##############################################################################
##############################################################################


* using log directory 'C:/Users/biocbuild/bbs-3.14-bioc/meat/splineTimeR.Rcheck'
* using R version 4.1.2 (2021-11-01)
* using platform: x86_64-w64-mingw32 (64-bit)
* using session charset: ISO8859-1
* using option '--no-vignettes'
* checking for file 'splineTimeR/DESCRIPTION' ... OK
* checking extension type ... Package
* this is package 'splineTimeR' version '1.22.0'
* checking package namespace information ... OK
* checking package dependencies ... NOTE
Depends: includes the non-default packages:
  'Biobase', 'igraph', 'limma', 'GSEABase', 'gtools', 'splines',
  'GeneNet', 'longitudinal', 'FIs'
Adding so many packages to the search path is excessive and importing
selectively is preferable.
* checking if this is a source package ... OK
* checking if there is a namespace ... OK
* checking for hidden files and directories ... OK
* checking for portable file names ... OK
* checking whether package 'splineTimeR' can be installed ... OK
* checking installed package size ... OK
* checking package directory ... OK
* checking 'build' directory ... OK
* checking DESCRIPTION meta-information ... OK
* checking top-level files ... OK
* checking for left-over files ... OK
* checking index information ... OK
* checking package subdirectories ... OK
* checking R files for non-ASCII characters ... OK
* checking R files for syntax errors ... OK
* loading checks for arch 'i386'
** checking whether the package can be loaded ... OK
** checking whether the package can be loaded with stated dependencies ... OK
** checking whether the package can be unloaded cleanly ... OK
** checking whether the namespace can be loaded with stated dependencies ... OK
** checking whether the namespace can be unloaded cleanly ... OK
* loading checks for arch 'x64'
** checking whether the package can be loaded ... OK
** checking whether the package can be loaded with stated dependencies ... OK
** checking whether the package can be unloaded cleanly ... OK
** checking whether the namespace can be loaded with stated dependencies ... OK
** checking whether the namespace can be unloaded cleanly ... OK
* checking dependencies in R code ... OK
* checking S3 generic/method consistency ... OK
* checking replacement functions ... OK
* checking foreign function calls ... OK
* checking R code for possible problems ... NOTE
networkProperties: no visible global function definition for 'is'
networkProperties: no visible global function definition for 'data'
networkProperties: no visible binding for global variable 'FIs'
networkProperties: no visible global function definition for 'pdf'
networkProperties: no visible global function definition for 'par'
networkProperties: no visible global function definition for 'ecdf'
networkProperties: no visible global function definition for 'hist'
networkProperties: no visible global function definition for 'dev.off'
networkProperties: no visible global function definition for 'lm'
networkProperties: no visible global function definition for 'abline'
networkProperties: no visible global function definition for 'legend'
networkProperties: no visible global function definition for 'axis'
pathEnrich: no visible global function definition for 'is'
pathEnrich: no visible global function definition for 'p.adjust'
pathEnrich: no visible global function definition for 'write.table'
splineDiffExprs: no visible global function definition for 'is'
splineDiffExprs: no visible global function definition for
  'model.matrix'
splineNetRecon: no visible global function definition for 'is'
splinePlot: no visible global function definition for 'is'
splinePlot: no visible global function definition for 'model.matrix'
splinePlot: no visible global function definition for 'predict'
splinePlot: no visible global function definition for 'pdf'
splinePlot: no visible global function definition for 'points'
splinePlot: no visible global function definition for 'legend'
splinePlot: no visible global function definition for 'lines'
splinePlot: no visible global function definition for 'dev.off'
Undefined global functions or variables:
  FIs abline axis data dev.off ecdf hist is legend lines lm
  model.matrix p.adjust par pdf points predict write.table
Consider adding
  importFrom("grDevices", "dev.off", "pdf")
  importFrom("graphics", "abline", "axis", "hist", "legend", "lines",
             "par", "points")
  importFrom("methods", "is")
  importFrom("stats", "ecdf", "lm", "model.matrix", "p.adjust",
             "predict")
  importFrom("utils", "data", "write.table")
to your NAMESPACE file (and ensure that your DESCRIPTION Imports field
contains 'methods').
* checking Rd files ... OK
* checking Rd metadata ... OK
* checking Rd cross-references ... OK
* checking for missing documentation entries ... OK
* checking for code/documentation mismatches ... OK
* checking Rd \usage sections ... OK
* checking Rd contents ... OK
* checking for unstated dependencies in examples ... OK
* checking contents of 'data' directory ... OK
* checking data for non-ASCII characters ... OK
* checking data for ASCII and uncompressed saves ... OK
* checking files in 'vignettes' ... OK
* checking examples ...
** running examples for arch 'i386' ... OK
Examples with CPU (user + system) or elapsed time > 5s
                   user system elapsed
networkProperties 33.78   2.28   36.08
splineNetRecon    29.44   2.21   31.67
** running examples for arch 'x64' ... OK
Examples with CPU (user + system) or elapsed time > 5s
                   user system elapsed
networkProperties 37.64   2.49   40.12
splineNetRecon    32.85   2.05   34.89
* checking for unstated dependencies in vignettes ... OK
* checking package vignettes in 'inst/doc' ... OK
* checking running R code from vignettes ... SKIPPED
* checking re-building of vignette outputs ... SKIPPED
* checking PDF version of manual ... OK
* DONE

Status: 2 NOTEs
See
  'C:/Users/biocbuild/bbs-3.14-bioc/meat/splineTimeR.Rcheck/00check.log'
for details.



Installation output

splineTimeR.Rcheck/00install.out

##############################################################################
##############################################################################
###
### Running command:
###
###   C:\cygwin\bin\curl.exe -O http://155.52.207.166/BBS/3.14/bioc/src/contrib/splineTimeR_1.22.0.tar.gz && rm -rf splineTimeR.buildbin-libdir && mkdir splineTimeR.buildbin-libdir && C:\Users\biocbuild\bbs-3.14-bioc\R\bin\R.exe CMD INSTALL --merge-multiarch --build --library=splineTimeR.buildbin-libdir splineTimeR_1.22.0.tar.gz && C:\Users\biocbuild\bbs-3.14-bioc\R\bin\R.exe CMD INSTALL splineTimeR_1.22.0.zip && rm splineTimeR_1.22.0.tar.gz splineTimeR_1.22.0.zip
###
##############################################################################
##############################################################################


  % Total    % Received % Xferd  Average Speed   Time    Time     Time  Current
                                 Dload  Upload   Total   Spent    Left  Speed

  0     0    0     0    0     0      0      0 --:--:-- --:--:-- --:--:--     0
  0  534k    0  1139    0     0  19391      0  0:00:28 --:--:--  0:00:28 19305
100  534k  100  534k    0     0  2278k      0 --:--:-- --:--:-- --:--:-- 2283k

install for i386

* installing *source* package 'splineTimeR' ...
** using staged installation
** R
** data
** inst
** byte-compile and prepare package for lazy loading
** help
*** installing help indices
  converting help for package 'splineTimeR'
    finding HTML links ... done
    TCsimData                               html  
    networkProperties                       html  
    finding level-2 HTML links ... done

    pathEnrich                              html  
    splineDiffExprs                         html  
    splineNetRecon                          html  
    splinePlot                              html  
** building package indices
** installing vignettes
** testing if installed package can be loaded from temporary location
** testing if installed package can be loaded from final location
** testing if installed package keeps a record of temporary installation path

install for x64

* installing *source* package 'splineTimeR' ...
** testing if installed package can be loaded
* MD5 sums
packaged installation of 'splineTimeR' as splineTimeR_1.22.0.zip
* DONE (splineTimeR)
* installing to library 'C:/Users/biocbuild/bbs-3.14-bioc/R/library'
package 'splineTimeR' successfully unpacked and MD5 sums checked

Tests output


Example timings

splineTimeR.Rcheck/examples_i386/splineTimeR-Ex.timings

nameusersystemelapsed
TCsimData0.020.020.03
networkProperties33.78 2.2836.08
pathEnrich0.330.050.37
splineDiffExprs0.060.000.06
splineNetRecon29.44 2.2131.67
splinePlot0.080.040.11

splineTimeR.Rcheck/examples_x64/splineTimeR-Ex.timings

nameusersystemelapsed
TCsimData0.020.000.02
networkProperties37.64 2.4940.12
pathEnrich0.300.050.35
splineDiffExprs0.040.010.06
splineNetRecon32.85 2.0534.89
splinePlot0.060.010.08